BEGIN:VCALENDAR
VERSION:2.0
PRODID:-//Straubing Spiders - ECPv6.15.20//NONSGML v1.0//EN
CALSCALE:GREGORIAN
METHOD:PUBLISH
X-WR-CALNAME:Straubing Spiders
X-ORIGINAL-URL:https://straubing-spiders.de
X-WR-CALDESC:Veranstaltungen für Straubing Spiders
REFRESH-INTERVAL;VALUE=DURATION:PT1H
X-Robots-Tag:noindex
X-PUBLISHED-TTL:PT1H
BEGIN:VTIMEZONE
TZID:Europe/Berlin
BEGIN:DAYLIGHT
TZOFFSETFROM:+0100
TZOFFSETTO:+0200
TZNAME:CEST
DTSTART:20250330T010000
END:DAYLIGHT
BEGIN:STANDARD
TZOFFSETFROM:+0200
TZOFFSETTO:+0100
TZNAME:CET
DTSTART:20251026T010000
END:STANDARD
BEGIN:DAYLIGHT
TZOFFSETFROM:+0100
TZOFFSETTO:+0200
TZNAME:CEST
DTSTART:20260329T010000
END:DAYLIGHT
BEGIN:STANDARD
TZOFFSETFROM:+0200
TZOFFSETTO:+0100
TZNAME:CET
DTSTART:20261025T010000
END:STANDARD
BEGIN:DAYLIGHT
TZOFFSETFROM:+0100
TZOFFSETTO:+0200
TZNAME:CEST
DTSTART:20270328T010000
END:DAYLIGHT
BEGIN:STANDARD
TZOFFSETFROM:+0200
TZOFFSETTO:+0100
TZNAME:CET
DTSTART:20271031T010000
END:STANDARD
END:VTIMEZONE
BEGIN:VEVENT
DTSTART;TZID=Europe/Berlin:20260703T164500
DTEND;TZID=Europe/Berlin:20260703T191500
DTSTAMP:20260421T151230
CREATED:20260119T150449Z
LAST-MODIFIED:20260119T150449Z
UID:10002288-1783097100-1783106100@straubing-spiders.de
SUMMARY:Friday Practice Flagfootball U16
DESCRIPTION:Zusätzlich zu Dienstags trainiert das Straubing Spiders U16 Flagfootball-Team immer Freitags von 16:45 – 19:15 Uhr beim Spiderdome. Teilnehmen darf JEDER im Alter von 12-16 Jahren und auch wenn Elternteile zusehen wollen ist dies kein Problem! Wir würden darum bitten zuvor mit uns in Kontakt zu treten um etwaige Trainingsabsagen oder sonstiges an Sie weitergeben zu können. Für’s Training werden lediglich Sportkleidung\, Wasser und Sportschuhe (wenn vorhanden Stollenschuhe) benötigt. Wir freuen uns auf DICH!
URL:https://straubing-spiders.de/termin/friday-practice-flagfootball-u16-2/2026-07-03/
LOCATION:Trainingsplatz 3\, Am Peterswöhrd 12\, Hinter dem SpiderDome\, Straubing\, Bayern\, 94315\, Germany
CATEGORIES:Flagfootball
END:VEVENT
BEGIN:VEVENT
DTSTART;TZID=Europe/Berlin:20260707T163000
DTEND;TZID=Europe/Berlin:20260707T180000
DTSTAMP:20260421T151230
CREATED:20260119T150252Z
LAST-MODIFIED:20260119T150253Z
UID:10002776-1783441800-1783447200@straubing-spiders.de
SUMMARY:Tuesday Practice Flagfootball U16
DESCRIPTION:Zusätzlich zu Dienstags trainiert das Straubing Spiders U16 Flagfootball-Team auch immer Dienstags von 16:30 – 18:00 Uhr beim SV Türk Gücü. Teilnehmen darf JEDER im Alter von 12-16 Jahren und auch wenn Elternteile zusehen wollen ist dies kein Problem! Wir würden darum bitten zuvor mit uns in Kontakt zu treten um etwaige Trainingsabsagen oder sonstiges an Sie weitergeben zu können. Für’s Training werden lediglich Sportkleidung\, Wasser und Sportschuhe (wenn vorhanden Stollenschuhe) benötigt. Wir freuen uns auf DICH!
URL:https://straubing-spiders.de/termin/tuesday-practice-flagfootball-u16-2/2026-07-07/
LOCATION:SV Türk Gücü\, Uferstraße 57\, Straubing\, Bayern\, 94315\, Germany
CATEGORIES:Flagfootball
END:VEVENT
BEGIN:VEVENT
DTSTART;TZID=Europe/Berlin:20260710T164500
DTEND;TZID=Europe/Berlin:20260710T191500
DTSTAMP:20260421T151230
CREATED:20260119T150449Z
LAST-MODIFIED:20260119T150449Z
UID:10002289-1783701900-1783710900@straubing-spiders.de
SUMMARY:Friday Practice Flagfootball U16
DESCRIPTION:Zusätzlich zu Dienstags trainiert das Straubing Spiders U16 Flagfootball-Team immer Freitags von 16:45 – 19:15 Uhr beim Spiderdome. Teilnehmen darf JEDER im Alter von 12-16 Jahren und auch wenn Elternteile zusehen wollen ist dies kein Problem! Wir würden darum bitten zuvor mit uns in Kontakt zu treten um etwaige Trainingsabsagen oder sonstiges an Sie weitergeben zu können. Für’s Training werden lediglich Sportkleidung\, Wasser und Sportschuhe (wenn vorhanden Stollenschuhe) benötigt. Wir freuen uns auf DICH!
URL:https://straubing-spiders.de/termin/friday-practice-flagfootball-u16-2/2026-07-10/
LOCATION:Trainingsplatz 3\, Am Peterswöhrd 12\, Hinter dem SpiderDome\, Straubing\, Bayern\, 94315\, Germany
CATEGORIES:Flagfootball
END:VEVENT
BEGIN:VEVENT
DTSTART;TZID=Europe/Berlin:20260714T163000
DTEND;TZID=Europe/Berlin:20260714T180000
DTSTAMP:20260421T151230
CREATED:20260119T150252Z
LAST-MODIFIED:20260119T150253Z
UID:10002777-1784046600-1784052000@straubing-spiders.de
SUMMARY:Tuesday Practice Flagfootball U16
DESCRIPTION:Zusätzlich zu Dienstags trainiert das Straubing Spiders U16 Flagfootball-Team auch immer Dienstags von 16:30 – 18:00 Uhr beim SV Türk Gücü. Teilnehmen darf JEDER im Alter von 12-16 Jahren und auch wenn Elternteile zusehen wollen ist dies kein Problem! Wir würden darum bitten zuvor mit uns in Kontakt zu treten um etwaige Trainingsabsagen oder sonstiges an Sie weitergeben zu können. Für’s Training werden lediglich Sportkleidung\, Wasser und Sportschuhe (wenn vorhanden Stollenschuhe) benötigt. Wir freuen uns auf DICH!
URL:https://straubing-spiders.de/termin/tuesday-practice-flagfootball-u16-2/2026-07-14/
LOCATION:SV Türk Gücü\, Uferstraße 57\, Straubing\, Bayern\, 94315\, Germany
CATEGORIES:Flagfootball
END:VEVENT
BEGIN:VEVENT
DTSTART;TZID=Europe/Berlin:20260717T164500
DTEND;TZID=Europe/Berlin:20260717T191500
DTSTAMP:20260421T151230
CREATED:20260119T150449Z
LAST-MODIFIED:20260119T150449Z
UID:10002290-1784306700-1784315700@straubing-spiders.de
SUMMARY:Friday Practice Flagfootball U16
DESCRIPTION:Zusätzlich zu Dienstags trainiert das Straubing Spiders U16 Flagfootball-Team immer Freitags von 16:45 – 19:15 Uhr beim Spiderdome. Teilnehmen darf JEDER im Alter von 12-16 Jahren und auch wenn Elternteile zusehen wollen ist dies kein Problem! Wir würden darum bitten zuvor mit uns in Kontakt zu treten um etwaige Trainingsabsagen oder sonstiges an Sie weitergeben zu können. Für’s Training werden lediglich Sportkleidung\, Wasser und Sportschuhe (wenn vorhanden Stollenschuhe) benötigt. Wir freuen uns auf DICH!
URL:https://straubing-spiders.de/termin/friday-practice-flagfootball-u16-2/2026-07-17/
LOCATION:Trainingsplatz 3\, Am Peterswöhrd 12\, Hinter dem SpiderDome\, Straubing\, Bayern\, 94315\, Germany
CATEGORIES:Flagfootball
END:VEVENT
BEGIN:VEVENT
DTSTART;TZID=Europe/Berlin:20260721T163000
DTEND;TZID=Europe/Berlin:20260721T180000
DTSTAMP:20260421T151230
CREATED:20260119T150252Z
LAST-MODIFIED:20260119T150253Z
UID:10002778-1784651400-1784656800@straubing-spiders.de
SUMMARY:Tuesday Practice Flagfootball U16
DESCRIPTION:Zusätzlich zu Dienstags trainiert das Straubing Spiders U16 Flagfootball-Team auch immer Dienstags von 16:30 – 18:00 Uhr beim SV Türk Gücü. Teilnehmen darf JEDER im Alter von 12-16 Jahren und auch wenn Elternteile zusehen wollen ist dies kein Problem! Wir würden darum bitten zuvor mit uns in Kontakt zu treten um etwaige Trainingsabsagen oder sonstiges an Sie weitergeben zu können. Für’s Training werden lediglich Sportkleidung\, Wasser und Sportschuhe (wenn vorhanden Stollenschuhe) benötigt. Wir freuen uns auf DICH!
URL:https://straubing-spiders.de/termin/tuesday-practice-flagfootball-u16-2/2026-07-21/
LOCATION:SV Türk Gücü\, Uferstraße 57\, Straubing\, Bayern\, 94315\, Germany
CATEGORIES:Flagfootball
END:VEVENT
BEGIN:VEVENT
DTSTART;TZID=Europe/Berlin:20260724T164500
DTEND;TZID=Europe/Berlin:20260724T191500
DTSTAMP:20260421T151230
CREATED:20260119T150449Z
LAST-MODIFIED:20260119T150449Z
UID:10002291-1784911500-1784920500@straubing-spiders.de
SUMMARY:Friday Practice Flagfootball U16
DESCRIPTION:Zusätzlich zu Dienstags trainiert das Straubing Spiders U16 Flagfootball-Team immer Freitags von 16:45 – 19:15 Uhr beim Spiderdome. Teilnehmen darf JEDER im Alter von 12-16 Jahren und auch wenn Elternteile zusehen wollen ist dies kein Problem! Wir würden darum bitten zuvor mit uns in Kontakt zu treten um etwaige Trainingsabsagen oder sonstiges an Sie weitergeben zu können. Für’s Training werden lediglich Sportkleidung\, Wasser und Sportschuhe (wenn vorhanden Stollenschuhe) benötigt. Wir freuen uns auf DICH!
URL:https://straubing-spiders.de/termin/friday-practice-flagfootball-u16-2/2026-07-24/
LOCATION:Trainingsplatz 3\, Am Peterswöhrd 12\, Hinter dem SpiderDome\, Straubing\, Bayern\, 94315\, Germany
CATEGORIES:Flagfootball
END:VEVENT
BEGIN:VEVENT
DTSTART;TZID=Europe/Berlin:20260728T163000
DTEND;TZID=Europe/Berlin:20260728T180000
DTSTAMP:20260421T151230
CREATED:20260119T150252Z
LAST-MODIFIED:20260119T150253Z
UID:10002779-1785256200-1785261600@straubing-spiders.de
SUMMARY:Tuesday Practice Flagfootball U16
DESCRIPTION:Zusätzlich zu Dienstags trainiert das Straubing Spiders U16 Flagfootball-Team auch immer Dienstags von 16:30 – 18:00 Uhr beim SV Türk Gücü. Teilnehmen darf JEDER im Alter von 12-16 Jahren und auch wenn Elternteile zusehen wollen ist dies kein Problem! Wir würden darum bitten zuvor mit uns in Kontakt zu treten um etwaige Trainingsabsagen oder sonstiges an Sie weitergeben zu können. Für’s Training werden lediglich Sportkleidung\, Wasser und Sportschuhe (wenn vorhanden Stollenschuhe) benötigt. Wir freuen uns auf DICH!
URL:https://straubing-spiders.de/termin/tuesday-practice-flagfootball-u16-2/2026-07-28/
LOCATION:SV Türk Gücü\, Uferstraße 57\, Straubing\, Bayern\, 94315\, Germany
CATEGORIES:Flagfootball
END:VEVENT
BEGIN:VEVENT
DTSTART;TZID=Europe/Berlin:20260731T164500
DTEND;TZID=Europe/Berlin:20260731T191500
DTSTAMP:20260421T151230
CREATED:20260119T150449Z
LAST-MODIFIED:20260119T150449Z
UID:10002292-1785516300-1785525300@straubing-spiders.de
SUMMARY:Friday Practice Flagfootball U16
DESCRIPTION:Zusätzlich zu Dienstags trainiert das Straubing Spiders U16 Flagfootball-Team immer Freitags von 16:45 – 19:15 Uhr beim Spiderdome. Teilnehmen darf JEDER im Alter von 12-16 Jahren und auch wenn Elternteile zusehen wollen ist dies kein Problem! Wir würden darum bitten zuvor mit uns in Kontakt zu treten um etwaige Trainingsabsagen oder sonstiges an Sie weitergeben zu können. Für’s Training werden lediglich Sportkleidung\, Wasser und Sportschuhe (wenn vorhanden Stollenschuhe) benötigt. Wir freuen uns auf DICH!
URL:https://straubing-spiders.de/termin/friday-practice-flagfootball-u16-2/2026-07-31/
LOCATION:Trainingsplatz 3\, Am Peterswöhrd 12\, Hinter dem SpiderDome\, Straubing\, Bayern\, 94315\, Germany
CATEGORIES:Flagfootball
END:VEVENT
END:VCALENDAR