BEGIN:VCALENDAR
VERSION:2.0
PRODID:-//Straubing Spiders - ECPv6.15.20//NONSGML v1.0//EN
CALSCALE:GREGORIAN
METHOD:PUBLISH
X-ORIGINAL-URL:https://straubing-spiders.de
X-WR-CALDESC:Veranstaltungen für Straubing Spiders
REFRESH-INTERVAL;VALUE=DURATION:PT1H
X-Robots-Tag:noindex
X-PUBLISHED-TTL:PT1H
BEGIN:VTIMEZONE
TZID:Europe/Berlin
BEGIN:DAYLIGHT
TZOFFSETFROM:+0100
TZOFFSETTO:+0200
TZNAME:CEST
DTSTART:20250330T010000
END:DAYLIGHT
BEGIN:STANDARD
TZOFFSETFROM:+0200
TZOFFSETTO:+0100
TZNAME:CET
DTSTART:20251026T010000
END:STANDARD
BEGIN:DAYLIGHT
TZOFFSETFROM:+0100
TZOFFSETTO:+0200
TZNAME:CEST
DTSTART:20260329T010000
END:DAYLIGHT
BEGIN:STANDARD
TZOFFSETFROM:+0200
TZOFFSETTO:+0100
TZNAME:CET
DTSTART:20261025T010000
END:STANDARD
BEGIN:DAYLIGHT
TZOFFSETFROM:+0100
TZOFFSETTO:+0200
TZNAME:CEST
DTSTART:20270328T010000
END:DAYLIGHT
BEGIN:STANDARD
TZOFFSETFROM:+0200
TZOFFSETTO:+0100
TZNAME:CET
DTSTART:20271031T010000
END:STANDARD
END:VTIMEZONE
BEGIN:VEVENT
DTSTART;TZID=Europe/Berlin:20260501T164500
DTEND;TZID=Europe/Berlin:20260501T191500
DTSTAMP:20260421T134124
CREATED:20260119T150449Z
LAST-MODIFIED:20260119T150449Z
UID:10002279-1777653900-1777662900@straubing-spiders.de
SUMMARY:Friday Practice Flagfootball U16
DESCRIPTION:Zusätzlich zu Dienstags trainiert das Straubing Spiders U16 Flagfootball-Team immer Freitags von 16:45 – 19:15 Uhr beim Spiderdome. Teilnehmen darf JEDER im Alter von 12-16 Jahren und auch wenn Elternteile zusehen wollen ist dies kein Problem! Wir würden darum bitten zuvor mit uns in Kontakt zu treten um etwaige Trainingsabsagen oder sonstiges an Sie weitergeben zu können. Für’s Training werden lediglich Sportkleidung\, Wasser und Sportschuhe (wenn vorhanden Stollenschuhe) benötigt. Wir freuen uns auf DICH!
URL:https://straubing-spiders.de/termin/friday-practice-flagfootball-u16-2/2026-05-01/
LOCATION:Trainingsplatz 3\, Am Peterswöhrd 12\, Hinter dem SpiderDome\, Straubing\, Bayern\, 94315\, Germany
CATEGORIES:Flagfootball
END:VEVENT
BEGIN:VEVENT
DTSTART;TZID=Europe/Berlin:20260505T163000
DTEND;TZID=Europe/Berlin:20260505T180000
DTSTAMP:20260421T134124
CREATED:20260119T150252Z
LAST-MODIFIED:20260119T150253Z
UID:10002767-1777998600-1778004000@straubing-spiders.de
SUMMARY:Tuesday Practice Flagfootball U16
DESCRIPTION:Zusätzlich zu Dienstags trainiert das Straubing Spiders U16 Flagfootball-Team auch immer Dienstags von 16:30 – 18:00 Uhr beim SV Türk Gücü. Teilnehmen darf JEDER im Alter von 12-16 Jahren und auch wenn Elternteile zusehen wollen ist dies kein Problem! Wir würden darum bitten zuvor mit uns in Kontakt zu treten um etwaige Trainingsabsagen oder sonstiges an Sie weitergeben zu können. Für’s Training werden lediglich Sportkleidung\, Wasser und Sportschuhe (wenn vorhanden Stollenschuhe) benötigt. Wir freuen uns auf DICH!
URL:https://straubing-spiders.de/termin/tuesday-practice-flagfootball-u16-2/2026-05-05/
LOCATION:SV Türk Gücü\, Uferstraße 57\, Straubing\, Bayern\, 94315\, Germany
CATEGORIES:Flagfootball
END:VEVENT
BEGIN:VEVENT
DTSTART;TZID=Europe/Berlin:20260508T164500
DTEND;TZID=Europe/Berlin:20260508T191500
DTSTAMP:20260421T134124
CREATED:20260119T150449Z
LAST-MODIFIED:20260119T150449Z
UID:10002280-1778258700-1778267700@straubing-spiders.de
SUMMARY:Friday Practice Flagfootball U16
DESCRIPTION:Zusätzlich zu Dienstags trainiert das Straubing Spiders U16 Flagfootball-Team immer Freitags von 16:45 – 19:15 Uhr beim Spiderdome. Teilnehmen darf JEDER im Alter von 12-16 Jahren und auch wenn Elternteile zusehen wollen ist dies kein Problem! Wir würden darum bitten zuvor mit uns in Kontakt zu treten um etwaige Trainingsabsagen oder sonstiges an Sie weitergeben zu können. Für’s Training werden lediglich Sportkleidung\, Wasser und Sportschuhe (wenn vorhanden Stollenschuhe) benötigt. Wir freuen uns auf DICH!
URL:https://straubing-spiders.de/termin/friday-practice-flagfootball-u16-2/2026-05-08/
LOCATION:Trainingsplatz 3\, Am Peterswöhrd 12\, Hinter dem SpiderDome\, Straubing\, Bayern\, 94315\, Germany
CATEGORIES:Flagfootball
END:VEVENT
BEGIN:VEVENT
DTSTART;TZID=Europe/Berlin:20260512T163000
DTEND;TZID=Europe/Berlin:20260512T180000
DTSTAMP:20260421T134124
CREATED:20260119T150252Z
LAST-MODIFIED:20260119T150253Z
UID:10002768-1778603400-1778608800@straubing-spiders.de
SUMMARY:Tuesday Practice Flagfootball U16
DESCRIPTION:Zusätzlich zu Dienstags trainiert das Straubing Spiders U16 Flagfootball-Team auch immer Dienstags von 16:30 – 18:00 Uhr beim SV Türk Gücü. Teilnehmen darf JEDER im Alter von 12-16 Jahren und auch wenn Elternteile zusehen wollen ist dies kein Problem! Wir würden darum bitten zuvor mit uns in Kontakt zu treten um etwaige Trainingsabsagen oder sonstiges an Sie weitergeben zu können. Für’s Training werden lediglich Sportkleidung\, Wasser und Sportschuhe (wenn vorhanden Stollenschuhe) benötigt. Wir freuen uns auf DICH!
URL:https://straubing-spiders.de/termin/tuesday-practice-flagfootball-u16-2/2026-05-12/
LOCATION:SV Türk Gücü\, Uferstraße 57\, Straubing\, Bayern\, 94315\, Germany
CATEGORIES:Flagfootball
END:VEVENT
BEGIN:VEVENT
DTSTART;TZID=Europe/Berlin:20260515T164500
DTEND;TZID=Europe/Berlin:20260515T191500
DTSTAMP:20260421T134124
CREATED:20260119T150449Z
LAST-MODIFIED:20260119T150449Z
UID:10002281-1778863500-1778872500@straubing-spiders.de
SUMMARY:Friday Practice Flagfootball U16
DESCRIPTION:Zusätzlich zu Dienstags trainiert das Straubing Spiders U16 Flagfootball-Team immer Freitags von 16:45 – 19:15 Uhr beim Spiderdome. Teilnehmen darf JEDER im Alter von 12-16 Jahren und auch wenn Elternteile zusehen wollen ist dies kein Problem! Wir würden darum bitten zuvor mit uns in Kontakt zu treten um etwaige Trainingsabsagen oder sonstiges an Sie weitergeben zu können. Für’s Training werden lediglich Sportkleidung\, Wasser und Sportschuhe (wenn vorhanden Stollenschuhe) benötigt. Wir freuen uns auf DICH!
URL:https://straubing-spiders.de/termin/friday-practice-flagfootball-u16-2/2026-05-15/
LOCATION:Trainingsplatz 3\, Am Peterswöhrd 12\, Hinter dem SpiderDome\, Straubing\, Bayern\, 94315\, Germany
CATEGORIES:Flagfootball
END:VEVENT
BEGIN:VEVENT
DTSTART;TZID=Europe/Berlin:20260519T163000
DTEND;TZID=Europe/Berlin:20260519T180000
DTSTAMP:20260421T134124
CREATED:20260119T150252Z
LAST-MODIFIED:20260119T150253Z
UID:10002769-1779208200-1779213600@straubing-spiders.de
SUMMARY:Tuesday Practice Flagfootball U16
DESCRIPTION:Zusätzlich zu Dienstags trainiert das Straubing Spiders U16 Flagfootball-Team auch immer Dienstags von 16:30 – 18:00 Uhr beim SV Türk Gücü. Teilnehmen darf JEDER im Alter von 12-16 Jahren und auch wenn Elternteile zusehen wollen ist dies kein Problem! Wir würden darum bitten zuvor mit uns in Kontakt zu treten um etwaige Trainingsabsagen oder sonstiges an Sie weitergeben zu können. Für’s Training werden lediglich Sportkleidung\, Wasser und Sportschuhe (wenn vorhanden Stollenschuhe) benötigt. Wir freuen uns auf DICH!
URL:https://straubing-spiders.de/termin/tuesday-practice-flagfootball-u16-2/2026-05-19/
LOCATION:SV Türk Gücü\, Uferstraße 57\, Straubing\, Bayern\, 94315\, Germany
CATEGORIES:Flagfootball
END:VEVENT
BEGIN:VEVENT
DTSTART;TZID=Europe/Berlin:20260522T164500
DTEND;TZID=Europe/Berlin:20260522T191500
DTSTAMP:20260421T134124
CREATED:20260119T150449Z
LAST-MODIFIED:20260119T150449Z
UID:10002282-1779468300-1779477300@straubing-spiders.de
SUMMARY:Friday Practice Flagfootball U16
DESCRIPTION:Zusätzlich zu Dienstags trainiert das Straubing Spiders U16 Flagfootball-Team immer Freitags von 16:45 – 19:15 Uhr beim Spiderdome. Teilnehmen darf JEDER im Alter von 12-16 Jahren und auch wenn Elternteile zusehen wollen ist dies kein Problem! Wir würden darum bitten zuvor mit uns in Kontakt zu treten um etwaige Trainingsabsagen oder sonstiges an Sie weitergeben zu können. Für’s Training werden lediglich Sportkleidung\, Wasser und Sportschuhe (wenn vorhanden Stollenschuhe) benötigt. Wir freuen uns auf DICH!
URL:https://straubing-spiders.de/termin/friday-practice-flagfootball-u16-2/2026-05-22/
LOCATION:Trainingsplatz 3\, Am Peterswöhrd 12\, Hinter dem SpiderDome\, Straubing\, Bayern\, 94315\, Germany
CATEGORIES:Flagfootball
END:VEVENT
BEGIN:VEVENT
DTSTART;TZID=Europe/Berlin:20260526T163000
DTEND;TZID=Europe/Berlin:20260526T180000
DTSTAMP:20260421T134124
CREATED:20260119T150252Z
LAST-MODIFIED:20260119T150253Z
UID:10002770-1779813000-1779818400@straubing-spiders.de
SUMMARY:Tuesday Practice Flagfootball U16
DESCRIPTION:Zusätzlich zu Dienstags trainiert das Straubing Spiders U16 Flagfootball-Team auch immer Dienstags von 16:30 – 18:00 Uhr beim SV Türk Gücü. Teilnehmen darf JEDER im Alter von 12-16 Jahren und auch wenn Elternteile zusehen wollen ist dies kein Problem! Wir würden darum bitten zuvor mit uns in Kontakt zu treten um etwaige Trainingsabsagen oder sonstiges an Sie weitergeben zu können. Für’s Training werden lediglich Sportkleidung\, Wasser und Sportschuhe (wenn vorhanden Stollenschuhe) benötigt. Wir freuen uns auf DICH!
URL:https://straubing-spiders.de/termin/tuesday-practice-flagfootball-u16-2/2026-05-26/
LOCATION:SV Türk Gücü\, Uferstraße 57\, Straubing\, Bayern\, 94315\, Germany
CATEGORIES:Flagfootball
END:VEVENT
BEGIN:VEVENT
DTSTART;TZID=Europe/Berlin:20260529T164500
DTEND;TZID=Europe/Berlin:20260529T191500
DTSTAMP:20260421T134124
CREATED:20260119T150449Z
LAST-MODIFIED:20260119T150449Z
UID:10002283-1780073100-1780082100@straubing-spiders.de
SUMMARY:Friday Practice Flagfootball U16
DESCRIPTION:Zusätzlich zu Dienstags trainiert das Straubing Spiders U16 Flagfootball-Team immer Freitags von 16:45 – 19:15 Uhr beim Spiderdome. Teilnehmen darf JEDER im Alter von 12-16 Jahren und auch wenn Elternteile zusehen wollen ist dies kein Problem! Wir würden darum bitten zuvor mit uns in Kontakt zu treten um etwaige Trainingsabsagen oder sonstiges an Sie weitergeben zu können. Für’s Training werden lediglich Sportkleidung\, Wasser und Sportschuhe (wenn vorhanden Stollenschuhe) benötigt. Wir freuen uns auf DICH!
URL:https://straubing-spiders.de/termin/friday-practice-flagfootball-u16-2/2026-05-29/
LOCATION:Trainingsplatz 3\, Am Peterswöhrd 12\, Hinter dem SpiderDome\, Straubing\, Bayern\, 94315\, Germany
CATEGORIES:Flagfootball
END:VEVENT
END:VCALENDAR