BEGIN:VCALENDAR
VERSION:2.0
PRODID:-//Straubing Spiders - ECPv6.15.20//NONSGML v1.0//EN
CALSCALE:GREGORIAN
METHOD:PUBLISH
X-WR-CALNAME:Straubing Spiders
X-ORIGINAL-URL:https://straubing-spiders.de
X-WR-CALDESC:Veranstaltungen für Straubing Spiders
REFRESH-INTERVAL;VALUE=DURATION:PT1H
X-Robots-Tag:noindex
X-PUBLISHED-TTL:PT1H
BEGIN:VTIMEZONE
TZID:Europe/Berlin
BEGIN:DAYLIGHT
TZOFFSETFROM:+0100
TZOFFSETTO:+0200
TZNAME:CEST
DTSTART:20240331T010000
END:DAYLIGHT
BEGIN:STANDARD
TZOFFSETFROM:+0200
TZOFFSETTO:+0100
TZNAME:CET
DTSTART:20241027T010000
END:STANDARD
BEGIN:DAYLIGHT
TZOFFSETFROM:+0100
TZOFFSETTO:+0200
TZNAME:CEST
DTSTART:20250330T010000
END:DAYLIGHT
BEGIN:STANDARD
TZOFFSETFROM:+0200
TZOFFSETTO:+0100
TZNAME:CET
DTSTART:20251026T010000
END:STANDARD
BEGIN:DAYLIGHT
TZOFFSETFROM:+0100
TZOFFSETTO:+0200
TZNAME:CEST
DTSTART:20260329T010000
END:DAYLIGHT
BEGIN:STANDARD
TZOFFSETFROM:+0200
TZOFFSETTO:+0100
TZNAME:CET
DTSTART:20261025T010000
END:STANDARD
END:VTIMEZONE
BEGIN:VEVENT
DTSTART;TZID=Europe/Berlin:20250603T163000
DTEND;TZID=Europe/Berlin:20250603T180000
DTSTAMP:20260422T042759
CREATED:20250324T194706Z
LAST-MODIFIED:20250324T231132Z
UID:10002719-1748968200-1748973600@straubing-spiders.de
SUMMARY:Tuesday Practice Flagfootball U16
DESCRIPTION:Zusätzlich zu Dienstags trainiert das Straubing Spiders U16 Flagfootball-Team auch immer Dienstags von 16:30 – 18:00 Uhr beim SV Türk Gücü. Teilnehmen darf JEDER im Alter von 12-16 Jahren und auch wenn Elternteile zusehen wollen ist dies kein Problem! Wir würden darum bitten zuvor mit uns in Kontakt zu treten um etwaige Trainingsabsagen oder sonstiges an Sie weitergeben zu können. Für’s Training werden lediglich Sportkleidung\, Wasser und Sportschuhe (wenn vorhanden Stollenschuhe) benötigt. Wir freuen uns auf DICH!
URL:https://straubing-spiders.de/termin/tuesday-practice-flagfootball-u16/2025-06-03/
LOCATION:SV Türk Gücü\, Uferstraße 57\, Straubing\, Bayern\, 94315\, Germany
CATEGORIES:Flagfootball
END:VEVENT
BEGIN:VEVENT
DTSTART;TZID=Europe/Berlin:20250606T164500
DTEND;TZID=Europe/Berlin:20250606T191500
DTSTAMP:20260422T042759
CREATED:20250324T192940Z
LAST-MODIFIED:20250324T230840Z
UID:10002232-1749228300-1749237300@straubing-spiders.de
SUMMARY:Friday Practice Flagfootball U16
DESCRIPTION:Zusätzlich zu Dienstags trainiert das Straubing Spiders U16 Flagfootball-Team immer Freitags von 16:45 – 19:15 Uhr beim Spiderdome. Teilnehmen darf JEDER im Alter von 12-16 Jahren und auch wenn Elternteile zusehen wollen ist dies kein Problem! Wir würden darum bitten zuvor mit uns in Kontakt zu treten um etwaige Trainingsabsagen oder sonstiges an Sie weitergeben zu können. Für’s Training werden lediglich Sportkleidung\, Wasser und Sportschuhe (wenn vorhanden Stollenschuhe) benötigt. Wir freuen uns auf DICH!
URL:https://straubing-spiders.de/termin/friday-practice-flagfootball-u16/2025-06-06/
LOCATION:Trainingsplatz 3\, Am Peterswöhrd 12\, Hinter dem SpiderDome\, Straubing\, Bayern\, 94315\, Germany
CATEGORIES:Flagfootball
END:VEVENT
BEGIN:VEVENT
DTSTART;TZID=Europe/Berlin:20250610T163000
DTEND;TZID=Europe/Berlin:20250610T180000
DTSTAMP:20260422T042759
CREATED:20250324T194706Z
LAST-MODIFIED:20250324T231132Z
UID:10002720-1749573000-1749578400@straubing-spiders.de
SUMMARY:Tuesday Practice Flagfootball U16
DESCRIPTION:Zusätzlich zu Dienstags trainiert das Straubing Spiders U16 Flagfootball-Team auch immer Dienstags von 16:30 – 18:00 Uhr beim SV Türk Gücü. Teilnehmen darf JEDER im Alter von 12-16 Jahren und auch wenn Elternteile zusehen wollen ist dies kein Problem! Wir würden darum bitten zuvor mit uns in Kontakt zu treten um etwaige Trainingsabsagen oder sonstiges an Sie weitergeben zu können. Für’s Training werden lediglich Sportkleidung\, Wasser und Sportschuhe (wenn vorhanden Stollenschuhe) benötigt. Wir freuen uns auf DICH!
URL:https://straubing-spiders.de/termin/tuesday-practice-flagfootball-u16/2025-06-10/
LOCATION:SV Türk Gücü\, Uferstraße 57\, Straubing\, Bayern\, 94315\, Germany
CATEGORIES:Flagfootball
END:VEVENT
BEGIN:VEVENT
DTSTART;TZID=Europe/Berlin:20250613T164500
DTEND;TZID=Europe/Berlin:20250613T191500
DTSTAMP:20260422T042759
CREATED:20250324T192940Z
LAST-MODIFIED:20250324T230840Z
UID:10002233-1749833100-1749842100@straubing-spiders.de
SUMMARY:Friday Practice Flagfootball U16
DESCRIPTION:Zusätzlich zu Dienstags trainiert das Straubing Spiders U16 Flagfootball-Team immer Freitags von 16:45 – 19:15 Uhr beim Spiderdome. Teilnehmen darf JEDER im Alter von 12-16 Jahren und auch wenn Elternteile zusehen wollen ist dies kein Problem! Wir würden darum bitten zuvor mit uns in Kontakt zu treten um etwaige Trainingsabsagen oder sonstiges an Sie weitergeben zu können. Für’s Training werden lediglich Sportkleidung\, Wasser und Sportschuhe (wenn vorhanden Stollenschuhe) benötigt. Wir freuen uns auf DICH!
URL:https://straubing-spiders.de/termin/friday-practice-flagfootball-u16/2025-06-13/
LOCATION:Trainingsplatz 3\, Am Peterswöhrd 12\, Hinter dem SpiderDome\, Straubing\, Bayern\, 94315\, Germany
CATEGORIES:Flagfootball
END:VEVENT
BEGIN:VEVENT
DTSTART;TZID=Europe/Berlin:20250617T163000
DTEND;TZID=Europe/Berlin:20250617T180000
DTSTAMP:20260422T042759
CREATED:20250324T194706Z
LAST-MODIFIED:20250324T231132Z
UID:10002721-1750177800-1750183200@straubing-spiders.de
SUMMARY:Tuesday Practice Flagfootball U16
DESCRIPTION:Zusätzlich zu Dienstags trainiert das Straubing Spiders U16 Flagfootball-Team auch immer Dienstags von 16:30 – 18:00 Uhr beim SV Türk Gücü. Teilnehmen darf JEDER im Alter von 12-16 Jahren und auch wenn Elternteile zusehen wollen ist dies kein Problem! Wir würden darum bitten zuvor mit uns in Kontakt zu treten um etwaige Trainingsabsagen oder sonstiges an Sie weitergeben zu können. Für’s Training werden lediglich Sportkleidung\, Wasser und Sportschuhe (wenn vorhanden Stollenschuhe) benötigt. Wir freuen uns auf DICH!
URL:https://straubing-spiders.de/termin/tuesday-practice-flagfootball-u16/2025-06-17/
LOCATION:SV Türk Gücü\, Uferstraße 57\, Straubing\, Bayern\, 94315\, Germany
CATEGORIES:Flagfootball
END:VEVENT
BEGIN:VEVENT
DTSTART;TZID=Europe/Berlin:20250620T164500
DTEND;TZID=Europe/Berlin:20250620T191500
DTSTAMP:20260422T042759
CREATED:20250324T192940Z
LAST-MODIFIED:20250324T230840Z
UID:10002234-1750437900-1750446900@straubing-spiders.de
SUMMARY:Friday Practice Flagfootball U16
DESCRIPTION:Zusätzlich zu Dienstags trainiert das Straubing Spiders U16 Flagfootball-Team immer Freitags von 16:45 – 19:15 Uhr beim Spiderdome. Teilnehmen darf JEDER im Alter von 12-16 Jahren und auch wenn Elternteile zusehen wollen ist dies kein Problem! Wir würden darum bitten zuvor mit uns in Kontakt zu treten um etwaige Trainingsabsagen oder sonstiges an Sie weitergeben zu können. Für’s Training werden lediglich Sportkleidung\, Wasser und Sportschuhe (wenn vorhanden Stollenschuhe) benötigt. Wir freuen uns auf DICH!
URL:https://straubing-spiders.de/termin/friday-practice-flagfootball-u16/2025-06-20/
LOCATION:Trainingsplatz 3\, Am Peterswöhrd 12\, Hinter dem SpiderDome\, Straubing\, Bayern\, 94315\, Germany
CATEGORIES:Flagfootball
END:VEVENT
BEGIN:VEVENT
DTSTART;TZID=Europe/Berlin:20250624T163000
DTEND;TZID=Europe/Berlin:20250624T180000
DTSTAMP:20260422T042759
CREATED:20250324T194706Z
LAST-MODIFIED:20250324T231132Z
UID:10002722-1750782600-1750788000@straubing-spiders.de
SUMMARY:Tuesday Practice Flagfootball U16
DESCRIPTION:Zusätzlich zu Dienstags trainiert das Straubing Spiders U16 Flagfootball-Team auch immer Dienstags von 16:30 – 18:00 Uhr beim SV Türk Gücü. Teilnehmen darf JEDER im Alter von 12-16 Jahren und auch wenn Elternteile zusehen wollen ist dies kein Problem! Wir würden darum bitten zuvor mit uns in Kontakt zu treten um etwaige Trainingsabsagen oder sonstiges an Sie weitergeben zu können. Für’s Training werden lediglich Sportkleidung\, Wasser und Sportschuhe (wenn vorhanden Stollenschuhe) benötigt. Wir freuen uns auf DICH!
URL:https://straubing-spiders.de/termin/tuesday-practice-flagfootball-u16/2025-06-24/
LOCATION:SV Türk Gücü\, Uferstraße 57\, Straubing\, Bayern\, 94315\, Germany
CATEGORIES:Flagfootball
END:VEVENT
BEGIN:VEVENT
DTSTART;TZID=Europe/Berlin:20250627T164500
DTEND;TZID=Europe/Berlin:20250627T191500
DTSTAMP:20260422T042759
CREATED:20250324T192940Z
LAST-MODIFIED:20250324T230840Z
UID:10002235-1751042700-1751051700@straubing-spiders.de
SUMMARY:Friday Practice Flagfootball U16
DESCRIPTION:Zusätzlich zu Dienstags trainiert das Straubing Spiders U16 Flagfootball-Team immer Freitags von 16:45 – 19:15 Uhr beim Spiderdome. Teilnehmen darf JEDER im Alter von 12-16 Jahren und auch wenn Elternteile zusehen wollen ist dies kein Problem! Wir würden darum bitten zuvor mit uns in Kontakt zu treten um etwaige Trainingsabsagen oder sonstiges an Sie weitergeben zu können. Für’s Training werden lediglich Sportkleidung\, Wasser und Sportschuhe (wenn vorhanden Stollenschuhe) benötigt. Wir freuen uns auf DICH!
URL:https://straubing-spiders.de/termin/friday-practice-flagfootball-u16/2025-06-27/
LOCATION:Trainingsplatz 3\, Am Peterswöhrd 12\, Hinter dem SpiderDome\, Straubing\, Bayern\, 94315\, Germany
CATEGORIES:Flagfootball
END:VEVENT
BEGIN:VEVENT
DTSTART;TZID=Europe/Berlin:20250628T100000
DTEND;TZID=Europe/Berlin:20250628T153000
DTSTAMP:20260422T042759
CREATED:20250418T104310Z
LAST-MODIFIED:20250418T104310Z
UID:10003002-1751104800-1751124600@straubing-spiders.de
SUMMARY:U16 Flagfootball Away-Turnier @Gendorf
DESCRIPTION:Wie in den letzten Jahren\, nehmen die Spiders auch in dieser Saison wieder im Ligabetrieb der Altersklasse U16 Flag im Modus 5vs5 teil. Die ersten Turniere der Saison liegt bereits hinter ihnen und langsam zeigt sich\, wer in die Zwischenrunde einzieht und somit auch die Möglichkeit auf die bayerische Meisterschaft hat. Am Sonntag\, den 28. Mai treffen unsere Jungspinnen in Gendorf auf die Turnierveranstalter\, die Gendorf Crusaders\, sowie die Passau Parrots und die Kirchdorf Wildcats. Es wird ein toller und fairer Fight der drei Mannschaften erwartet. Seid dabei\, wenn unsere U16 die Flaggen anlegt und #Spidersfootball spielt! Kickoff ist um 10:00 Uhr\, Jahnstraße\, 84508 Burgkirchen an der Alz.  \nSchaut vorbei und unterstützt uns!!!
URL:https://straubing-spiders.de/termin/u16-flagfootball-away-turnier-gendorf/
LOCATION:Bayern
CATEGORIES:Flagfootball,Spiders U16
ORGANIZER;CN="Straubing Spiders":MAILTO:martin.dragan@straubing-spiders.de
END:VEVENT
END:VCALENDAR