BEGIN:VCALENDAR
VERSION:2.0
PRODID:-//Straubing Spiders - ECPv6.15.20//NONSGML v1.0//EN
CALSCALE:GREGORIAN
METHOD:PUBLISH
X-WR-CALNAME:Straubing Spiders
X-ORIGINAL-URL:https://straubing-spiders.de
X-WR-CALDESC:Veranstaltungen für Straubing Spiders
REFRESH-INTERVAL;VALUE=DURATION:PT1H
X-Robots-Tag:noindex
X-PUBLISHED-TTL:PT1H
BEGIN:VTIMEZONE
TZID:Europe/Berlin
BEGIN:DAYLIGHT
TZOFFSETFROM:+0100
TZOFFSETTO:+0200
TZNAME:CEST
DTSTART:20240331T010000
END:DAYLIGHT
BEGIN:STANDARD
TZOFFSETFROM:+0200
TZOFFSETTO:+0100
TZNAME:CET
DTSTART:20241027T010000
END:STANDARD
BEGIN:DAYLIGHT
TZOFFSETFROM:+0100
TZOFFSETTO:+0200
TZNAME:CEST
DTSTART:20250330T010000
END:DAYLIGHT
BEGIN:STANDARD
TZOFFSETFROM:+0200
TZOFFSETTO:+0100
TZNAME:CET
DTSTART:20251026T010000
END:STANDARD
BEGIN:DAYLIGHT
TZOFFSETFROM:+0100
TZOFFSETTO:+0200
TZNAME:CEST
DTSTART:20260329T010000
END:DAYLIGHT
BEGIN:STANDARD
TZOFFSETFROM:+0200
TZOFFSETTO:+0100
TZNAME:CET
DTSTART:20261025T010000
END:STANDARD
END:VTIMEZONE
BEGIN:VEVENT
DTSTART;TZID=Europe/Berlin:20250408T163000
DTEND;TZID=Europe/Berlin:20250408T180000
DTSTAMP:20260422T075849
CREATED:20250324T194706Z
LAST-MODIFIED:20250324T231132Z
UID:10002711-1744129800-1744135200@straubing-spiders.de
SUMMARY:Tuesday Practice Flagfootball U16
DESCRIPTION:Zusätzlich zu Dienstags trainiert das Straubing Spiders U16 Flagfootball-Team auch immer Dienstags von 16:30 – 18:00 Uhr beim SV Türk Gücü. Teilnehmen darf JEDER im Alter von 12-16 Jahren und auch wenn Elternteile zusehen wollen ist dies kein Problem! Wir würden darum bitten zuvor mit uns in Kontakt zu treten um etwaige Trainingsabsagen oder sonstiges an Sie weitergeben zu können. Für’s Training werden lediglich Sportkleidung\, Wasser und Sportschuhe (wenn vorhanden Stollenschuhe) benötigt. Wir freuen uns auf DICH!
URL:https://straubing-spiders.de/termin/tuesday-practice-flagfootball-u16/2025-04-08/
LOCATION:SV Türk Gücü\, Uferstraße 57\, Straubing\, Bayern\, 94315\, Germany
CATEGORIES:Flagfootball
END:VEVENT
BEGIN:VEVENT
DTSTART;TZID=Europe/Berlin:20250411T164500
DTEND;TZID=Europe/Berlin:20250411T191500
DTSTAMP:20260422T075849
CREATED:20250324T192940Z
LAST-MODIFIED:20250324T230840Z
UID:10002154-1744389900-1744398900@straubing-spiders.de
SUMMARY:Friday Practice Flagfootball U16
DESCRIPTION:Zusätzlich zu Dienstags trainiert das Straubing Spiders U16 Flagfootball-Team immer Freitags von 16:45 – 19:15 Uhr beim Spiderdome. Teilnehmen darf JEDER im Alter von 12-16 Jahren und auch wenn Elternteile zusehen wollen ist dies kein Problem! Wir würden darum bitten zuvor mit uns in Kontakt zu treten um etwaige Trainingsabsagen oder sonstiges an Sie weitergeben zu können. Für’s Training werden lediglich Sportkleidung\, Wasser und Sportschuhe (wenn vorhanden Stollenschuhe) benötigt. Wir freuen uns auf DICH!
URL:https://straubing-spiders.de/termin/friday-practice-flagfootball-u16/2025-04-11/
LOCATION:Trainingsplatz 3\, Am Peterswöhrd 12\, Hinter dem SpiderDome\, Straubing\, Bayern\, 94315\, Germany
CATEGORIES:Flagfootball
END:VEVENT
BEGIN:VEVENT
DTSTART;TZID=Europe/Berlin:20250415T163000
DTEND;TZID=Europe/Berlin:20250415T180000
DTSTAMP:20260422T075849
CREATED:20250324T194706Z
LAST-MODIFIED:20250324T231132Z
UID:10002712-1744734600-1744740000@straubing-spiders.de
SUMMARY:Tuesday Practice Flagfootball U16
DESCRIPTION:Zusätzlich zu Dienstags trainiert das Straubing Spiders U16 Flagfootball-Team auch immer Dienstags von 16:30 – 18:00 Uhr beim SV Türk Gücü. Teilnehmen darf JEDER im Alter von 12-16 Jahren und auch wenn Elternteile zusehen wollen ist dies kein Problem! Wir würden darum bitten zuvor mit uns in Kontakt zu treten um etwaige Trainingsabsagen oder sonstiges an Sie weitergeben zu können. Für’s Training werden lediglich Sportkleidung\, Wasser und Sportschuhe (wenn vorhanden Stollenschuhe) benötigt. Wir freuen uns auf DICH!
URL:https://straubing-spiders.de/termin/tuesday-practice-flagfootball-u16/2025-04-15/
LOCATION:SV Türk Gücü\, Uferstraße 57\, Straubing\, Bayern\, 94315\, Germany
CATEGORIES:Flagfootball
END:VEVENT
BEGIN:VEVENT
DTSTART;TZID=Europe/Berlin:20250418T164500
DTEND;TZID=Europe/Berlin:20250418T191500
DTSTAMP:20260422T075849
CREATED:20250324T192940Z
LAST-MODIFIED:20250324T230840Z
UID:10002225-1744994700-1745003700@straubing-spiders.de
SUMMARY:Friday Practice Flagfootball U16
DESCRIPTION:Zusätzlich zu Dienstags trainiert das Straubing Spiders U16 Flagfootball-Team immer Freitags von 16:45 – 19:15 Uhr beim Spiderdome. Teilnehmen darf JEDER im Alter von 12-16 Jahren und auch wenn Elternteile zusehen wollen ist dies kein Problem! Wir würden darum bitten zuvor mit uns in Kontakt zu treten um etwaige Trainingsabsagen oder sonstiges an Sie weitergeben zu können. Für’s Training werden lediglich Sportkleidung\, Wasser und Sportschuhe (wenn vorhanden Stollenschuhe) benötigt. Wir freuen uns auf DICH!
URL:https://straubing-spiders.de/termin/friday-practice-flagfootball-u16/2025-04-18/
LOCATION:Trainingsplatz 3\, Am Peterswöhrd 12\, Hinter dem SpiderDome\, Straubing\, Bayern\, 94315\, Germany
CATEGORIES:Flagfootball
END:VEVENT
BEGIN:VEVENT
DTSTART;TZID=Europe/Berlin:20250422T163000
DTEND;TZID=Europe/Berlin:20250422T180000
DTSTAMP:20260422T075849
CREATED:20250324T194706Z
LAST-MODIFIED:20250324T231132Z
UID:10002713-1745339400-1745344800@straubing-spiders.de
SUMMARY:Tuesday Practice Flagfootball U16
DESCRIPTION:Zusätzlich zu Dienstags trainiert das Straubing Spiders U16 Flagfootball-Team auch immer Dienstags von 16:30 – 18:00 Uhr beim SV Türk Gücü. Teilnehmen darf JEDER im Alter von 12-16 Jahren und auch wenn Elternteile zusehen wollen ist dies kein Problem! Wir würden darum bitten zuvor mit uns in Kontakt zu treten um etwaige Trainingsabsagen oder sonstiges an Sie weitergeben zu können. Für’s Training werden lediglich Sportkleidung\, Wasser und Sportschuhe (wenn vorhanden Stollenschuhe) benötigt. Wir freuen uns auf DICH!
URL:https://straubing-spiders.de/termin/tuesday-practice-flagfootball-u16/2025-04-22/
LOCATION:SV Türk Gücü\, Uferstraße 57\, Straubing\, Bayern\, 94315\, Germany
CATEGORIES:Flagfootball
END:VEVENT
BEGIN:VEVENT
DTSTART;TZID=Europe/Berlin:20250425T164500
DTEND;TZID=Europe/Berlin:20250425T191500
DTSTAMP:20260422T075849
CREATED:20250324T192940Z
LAST-MODIFIED:20250324T230840Z
UID:10002226-1745599500-1745608500@straubing-spiders.de
SUMMARY:Friday Practice Flagfootball U16
DESCRIPTION:Zusätzlich zu Dienstags trainiert das Straubing Spiders U16 Flagfootball-Team immer Freitags von 16:45 – 19:15 Uhr beim Spiderdome. Teilnehmen darf JEDER im Alter von 12-16 Jahren und auch wenn Elternteile zusehen wollen ist dies kein Problem! Wir würden darum bitten zuvor mit uns in Kontakt zu treten um etwaige Trainingsabsagen oder sonstiges an Sie weitergeben zu können. Für’s Training werden lediglich Sportkleidung\, Wasser und Sportschuhe (wenn vorhanden Stollenschuhe) benötigt. Wir freuen uns auf DICH!
URL:https://straubing-spiders.de/termin/friday-practice-flagfootball-u16/2025-04-25/
LOCATION:Trainingsplatz 3\, Am Peterswöhrd 12\, Hinter dem SpiderDome\, Straubing\, Bayern\, 94315\, Germany
CATEGORIES:Flagfootball
END:VEVENT
BEGIN:VEVENT
DTSTART;TZID=Europe/Berlin:20250429T163000
DTEND;TZID=Europe/Berlin:20250429T180000
DTSTAMP:20260422T075849
CREATED:20250324T194706Z
LAST-MODIFIED:20250324T231132Z
UID:10002714-1745944200-1745949600@straubing-spiders.de
SUMMARY:Tuesday Practice Flagfootball U16
DESCRIPTION:Zusätzlich zu Dienstags trainiert das Straubing Spiders U16 Flagfootball-Team auch immer Dienstags von 16:30 – 18:00 Uhr beim SV Türk Gücü. Teilnehmen darf JEDER im Alter von 12-16 Jahren und auch wenn Elternteile zusehen wollen ist dies kein Problem! Wir würden darum bitten zuvor mit uns in Kontakt zu treten um etwaige Trainingsabsagen oder sonstiges an Sie weitergeben zu können. Für’s Training werden lediglich Sportkleidung\, Wasser und Sportschuhe (wenn vorhanden Stollenschuhe) benötigt. Wir freuen uns auf DICH!
URL:https://straubing-spiders.de/termin/tuesday-practice-flagfootball-u16/2025-04-29/
LOCATION:SV Türk Gücü\, Uferstraße 57\, Straubing\, Bayern\, 94315\, Germany
CATEGORIES:Flagfootball
END:VEVENT
END:VCALENDAR