BEGIN:VCALENDAR
VERSION:2.0
PRODID:-//Straubing Spiders - ECPv6.15.20//NONSGML v1.0//EN
CALSCALE:GREGORIAN
METHOD:PUBLISH
X-ORIGINAL-URL:https://straubing-spiders.de
X-WR-CALDESC:Veranstaltungen für Straubing Spiders
REFRESH-INTERVAL;VALUE=DURATION:PT1H
X-Robots-Tag:noindex
X-PUBLISHED-TTL:PT1H
BEGIN:VTIMEZONE
TZID:Europe/Berlin
BEGIN:DAYLIGHT
TZOFFSETFROM:+0100
TZOFFSETTO:+0200
TZNAME:CEST
DTSTART:20230326T010000
END:DAYLIGHT
BEGIN:STANDARD
TZOFFSETFROM:+0200
TZOFFSETTO:+0100
TZNAME:CET
DTSTART:20231029T010000
END:STANDARD
BEGIN:DAYLIGHT
TZOFFSETFROM:+0100
TZOFFSETTO:+0200
TZNAME:CEST
DTSTART:20240331T010000
END:DAYLIGHT
BEGIN:STANDARD
TZOFFSETFROM:+0200
TZOFFSETTO:+0100
TZNAME:CET
DTSTART:20241027T010000
END:STANDARD
BEGIN:DAYLIGHT
TZOFFSETFROM:+0100
TZOFFSETTO:+0200
TZNAME:CEST
DTSTART:20250330T010000
END:DAYLIGHT
BEGIN:STANDARD
TZOFFSETFROM:+0200
TZOFFSETTO:+0100
TZNAME:CET
DTSTART:20251026T010000
END:STANDARD
END:VTIMEZONE
BEGIN:VEVENT
DTSTART;TZID=Europe/Berlin:20240303T100000
DTEND;TZID=Europe/Berlin:20240303T143000
DTSTAMP:20260423T102528
CREATED:20240120T082503Z
LAST-MODIFIED:20240120T082503Z
UID:10002134-1709460000-1709476200@straubing-spiders.de
SUMMARY:U13 Flag Hallenturnier @Ergolding
DESCRIPTION:In diesem Jahr starten wir wieder voll durch in der Alterskategorie U13! \nDas U13 Flagteam der SRS eröffnet ihre Hallensaison 2024 am 03. März 2024 zu Gast bei den Landshut Black Knights! \nUm 10:00 Uhr ist Kickoff des Turnieres in Ergolding (84030) in der Sportplatzsttraße 15. \n  \nDer Spielplan für das Turnier sieht folgend aus: \n10:00 Uhr Landshut Black Knights vs. Ingolstadt Dukes \n10:40 Uhr Straubing Spiders vs. Amberg Mad Bulldogs \n11:20 Uhr Ingolstadt Dukes vs. Straubing Spiders \n12:00 Uhr Amberg Mad Bulldogs vs Landshut Black Knights \n12:40 Uhr  Ingolstadt Dukes vs Amberg Mad Bulldogs \n13:20 Uhr Landshut Black Knights vs. Straubing Spiders \n  \nEs wird ein toller und fairer Fight der Mannschaften erwartet. Seid dabei\, wenn unsere U13 die Flaggen anlegt und #Spidersfootball spielt!
URL:https://straubing-spiders.de/termin/u13-flag-hallenturnier-ergolding/
LOCATION:Bayern
CATEGORIES:Flagfootball
END:VEVENT
BEGIN:VEVENT
DTSTART;TZID=Europe/Berlin:20240309T100000
DTEND;TZID=Europe/Berlin:20240309T143000
DTSTAMP:20260423T102528
CREATED:20240109T202111Z
LAST-MODIFIED:20240120T085456Z
UID:10002131-1709978400-1709994600@straubing-spiders.de
SUMMARY:U16 Flag Hallenturnier - Gruppe 5 @Burgkirchen
DESCRIPTION:In diesem Jahr starten wir wieder voll durch in der Alterskategorie U16! \n  \nDie Spiders haben diese Hallensaison 2 Teams gemeldet (in den Gruppen 4 & 5). \nDas Team der SRS in der Gruppe 5 bestreitet das 2te Turnier Ihrer Hallensaison 2024 am 09. März 2024 zu Gast bei den Burgkirchen Crusaders! \nUm 10:00 Uhr ist Kickoff des Turnieres in Burgkirchen im Alzstadion (Jahnstraße 6\, 84508 Burgkirchen/Gendorf) \n  \nDer Spielplan für das Turnier sieht folgend aus: \n10:00 Uhr  Burgkirchen Crusaders vs. Traunreut Munisiers \n10:40 Uhr  Straubing Spiders 2 vs. Rosenheim Rebels \n11:20 Uhr Traunreut Munisiers vs. Straubing Spiders 2 \n12:00 Uhr Rosenheim Rebels vs Burgkirchen Crusaders \n12:40 Uhr Traunreut Munisiers vs. Rosenheim Rebels \n13:20 Uhr Burgkirchen Crusaders vs. Straubing Spiders 2 \n14:00 Uhr Rosenheim Rebels vs. Kirchdorf Wildcats – Spiel außerhalb der Tabellenwertung \n14:40 Uhr Kirchdorf Wildcats vs. Straubing Spiders 2 – Spiel außerhalb der Tabellenwertung \n  \nEs wird ein toller und fairer Fight der Mannschaften erwartet. Seid dabei\, wenn die G5 Jungspinnen unserer U16 die Flaggen anlegt und #Spidersfootball spielt!
URL:https://straubing-spiders.de/termin/u16-flag-hallenturnier-gruppe-5-burgkirchen/
LOCATION:Alzstadion\, Jahnstraße 6\, Burgkirchen\, Bayern\, 84508\, Deutschland
CATEGORIES:Flagfootball
END:VEVENT
BEGIN:VEVENT
DTSTART;TZID=Europe/Berlin:20240309T100000
DTEND;TZID=Europe/Berlin:20240309T143000
DTSTAMP:20260423T102528
CREATED:20240120T083403Z
LAST-MODIFIED:20240120T083403Z
UID:10002135-1709978400-1709994600@straubing-spiders.de
SUMMARY:U13 Flag Hallenturnier @Ingolstadt
DESCRIPTION:In diesem Jahr starten wir wieder voll durch in der Alterskategorie U13! \nDas U13 Flagteam der SRS bestreitet das 2te Turnier ihrer Hallensaison am 09. März 2024 zu Gast bei den Ingolstadt Dukes! \nUm 10:00 Uhr ist Kickoff des Turnieres in Ingolstadt beim TV 1861 Ingolstadt – Richard-Wagner-Straße 65\, 85057 Ingolstadt. \n  \nDer Spielplan für das Turnier sieht folgend aus: \n10:00 Uhr Ingolstadt Dukes vs. Landshut Black Knights \n10:40 Uhr Amberg Mad Bulldogs vs. Straubing Spiders \n11:20 Uhr Landshut Black Knights vs. Amberg Mad Bulldogs \n12:00 Uhr Straubing Spiders vs. Ingolstadt Dukes \n12:40 Uhr Landshut Black Knights vs. Straubing Spiders \n13:20 Uhr Ingolstadt Dukes vs. Amberg Mad Bulldogs \n  \nEs wird ein toller und fairer Fight der Mannschaften erwartet. Seid dabei\, wenn unsere U13 die Flaggen anlegt und #Spidersfootball spielt!
URL:https://straubing-spiders.de/termin/u13-flag-hallenturnier-ingolstadt/
LOCATION:Bayern
CATEGORIES:Flagfootball
END:VEVENT
BEGIN:VEVENT
DTSTART;TZID=Europe/Berlin:20240310T093000
DTEND;TZID=Europe/Berlin:20240310T133000
DTSTAMP:20260423T102528
CREATED:20240120T085116Z
LAST-MODIFIED:20240120T085116Z
UID:10002137-1710063000-1710077400@straubing-spiders.de
SUMMARY:U16 Flag Hallenturnier - Gruppe 4 @Feldkirchen
DESCRIPTION:In diesem Jahr starten wir wieder voll durch in der Alterskategorie U16! \n  \nDie Spiders haben diese Hallensaison 2 Teams gemeldet (in den Gruppen 4 & 5). \nDas Team der SRS in der Gruppe 4 bestreitet das 2te Turnier ihrer Hallensaison 2024 am 10. März 2024 zu Gast bei den Feldkirchen Lions! \nUm 09:30 Uhr ist Kickoff des Turnieres in Feldkirchen in der Olympiastraße 1. \n  \nDer Spielplan für das Turnier sieht folgend aus: \n09:30 Uhr Feldkirchen Lions vs. Dachau Thunder \n10:10 Uhr Straubing Spiders vs. Ingolstadt Dukes \n10:50 Uhr Dachau Thunder vs. Straubing Spiders \n11:30 Uhr Ingolstadt Dukes  vs. Feldkirchen Lions \n12:10 Uhr Dachau Thunder vs. Ingolstadt Dukes \n12:50 Uhr Feldkirchen Lions vs. Straubing Spiders \n  \nEs wird ein toller und fairer Fight der Mannschaften erwartet. Seid dabei\, wenn die G4 Jungspinnen unserer U16 die Flaggen anlegt und #Spidersfootball spielt!
URL:https://straubing-spiders.de/termin/u16-flag-hallenturnier-gruppe-4-feldkirchen-2/
LOCATION:Bayern
CATEGORIES:Flagfootball
END:VEVENT
BEGIN:VEVENT
DTSTART;TZID=Europe/Berlin:20240310T100000
DTEND;TZID=Europe/Berlin:20240310T120000
DTSTAMP:20260423T102528
CREATED:20240120T084810Z
LAST-MODIFIED:20240120T084810Z
UID:10002139-1710064800-1710072000@straubing-spiders.de
SUMMARY:U11 Flag Hallenturnier @Ergolding
DESCRIPTION:In diesem Jahr starten wir gleich zu Anfang voll durch in der Alterskategorie U11! \nDas U11 Flagteam der SRS bestreiten das 2te Turnier ihrer Hallensaison 2024 am 10.03.2024 zu Gast bei den Landshut Black Knights! \nUm 10:00 Uhr ist Kickoff des Turnieres in der Sportplatzstraße 15\, 84030 Ergolding. \n  \nDer Spielplan für das Turnier sieht folgend aus: \n10:00 Uhr Landshut Black Knights vs. Straubing Spiders \n10:40 Uhr  Straubing Spiders vs. Ingolstadt Dukes 2 \n11:20 Uhr Ingolstadt Dukes 2 vs. Landshut Black Knights \n  \nEs wird ein toller und fairer Fight der Mannschaften erwartet. Seid dabei\, wenn unsere U11 die Flaggen anlegt und #Spidersfootball spielt!
URL:https://straubing-spiders.de/termin/u11-flag-hallenturnier-ergolding/
LOCATION:Bayern
CATEGORIES:Flagfootball
END:VEVENT
END:VCALENDAR