BEGIN:VCALENDAR
VERSION:2.0
PRODID:-//Straubing Spiders - ECPv6.15.20//NONSGML v1.0//EN
CALSCALE:GREGORIAN
METHOD:PUBLISH
X-ORIGINAL-URL:https://straubing-spiders.de
X-WR-CALDESC:Veranstaltungen für Straubing Spiders
REFRESH-INTERVAL;VALUE=DURATION:PT1H
X-Robots-Tag:noindex
X-PUBLISHED-TTL:PT1H
BEGIN:VTIMEZONE
TZID:Europe/Berlin
BEGIN:DAYLIGHT
TZOFFSETFROM:+0100
TZOFFSETTO:+0200
TZNAME:CEST
DTSTART:20220327T010000
END:DAYLIGHT
BEGIN:STANDARD
TZOFFSETFROM:+0200
TZOFFSETTO:+0100
TZNAME:CET
DTSTART:20221030T010000
END:STANDARD
BEGIN:DAYLIGHT
TZOFFSETFROM:+0100
TZOFFSETTO:+0200
TZNAME:CEST
DTSTART:20230326T010000
END:DAYLIGHT
BEGIN:STANDARD
TZOFFSETFROM:+0200
TZOFFSETTO:+0100
TZNAME:CET
DTSTART:20231029T010000
END:STANDARD
BEGIN:DAYLIGHT
TZOFFSETFROM:+0100
TZOFFSETTO:+0200
TZNAME:CEST
DTSTART:20240331T010000
END:DAYLIGHT
BEGIN:STANDARD
TZOFFSETFROM:+0200
TZOFFSETTO:+0100
TZNAME:CET
DTSTART:20241027T010000
END:STANDARD
END:VTIMEZONE
BEGIN:VEVENT
DTSTART;TZID=Europe/Berlin:20231015T100000
DTEND;TZID=Europe/Berlin:20231015T153000
DTSTAMP:20260423T153721
CREATED:20230913T092631Z
LAST-MODIFIED:20230913T092631Z
UID:10001277-1697364000-1697383800@straubing-spiders.de
SUMMARY:U19 Flagfootball Turnier @ Amberg
DESCRIPTION:Wie in den letzten Jahren\, nehmen die Spiders auch in dieser Saison wieder im Ligabetrieb der Altersklasse U19 Flag teil. Nun steht das letzte Turnier der regulär Season unserer ältesten Spinnen  der Abteilung Flag in diesem Jahr an!Hier entscheidet sich der Einzug ins Finalturnier! Am Sonntag\, den 15.10.2023 treffen sie auf die Amberg Mad Bulldogs und Erlangen Sharks. Es wird ein toller und fairer Fight der drei Mannschaften erwartet. Seid dabei\, wenn unsere U19 die Flaggen anlegt und #Spidersfootball spielt! Kickoff ist um 10:00 Uhr im Stadion am Schanzl in Amberg! 
URL:https://straubing-spiders.de/termin/u19-flagfootball-turnier-amberg/
LOCATION:Bayern
CATEGORIES:Flagfootball,Spiders U19
END:VEVENT
END:VCALENDAR