BEGIN:VCALENDAR
VERSION:2.0
PRODID:-//Straubing Spiders - ECPv6.15.20//NONSGML v1.0//EN
CALSCALE:GREGORIAN
METHOD:PUBLISH
X-WR-CALNAME:Straubing Spiders
X-ORIGINAL-URL:https://straubing-spiders.de
X-WR-CALDESC:Veranstaltungen für Straubing Spiders
REFRESH-INTERVAL;VALUE=DURATION:PT1H
X-Robots-Tag:noindex
X-PUBLISHED-TTL:PT1H
BEGIN:VTIMEZONE
TZID:Europe/Berlin
BEGIN:DAYLIGHT
TZOFFSETFROM:+0100
TZOFFSETTO:+0200
TZNAME:CEST
DTSTART:20220327T010000
END:DAYLIGHT
BEGIN:STANDARD
TZOFFSETFROM:+0200
TZOFFSETTO:+0100
TZNAME:CET
DTSTART:20221030T010000
END:STANDARD
BEGIN:DAYLIGHT
TZOFFSETFROM:+0100
TZOFFSETTO:+0200
TZNAME:CEST
DTSTART:20230326T010000
END:DAYLIGHT
BEGIN:STANDARD
TZOFFSETFROM:+0200
TZOFFSETTO:+0100
TZNAME:CET
DTSTART:20231029T010000
END:STANDARD
BEGIN:DAYLIGHT
TZOFFSETFROM:+0100
TZOFFSETTO:+0200
TZNAME:CEST
DTSTART:20240331T010000
END:DAYLIGHT
BEGIN:STANDARD
TZOFFSETFROM:+0200
TZOFFSETTO:+0100
TZNAME:CET
DTSTART:20241027T010000
END:STANDARD
END:VTIMEZONE
BEGIN:VEVENT
DTSTART;TZID=Europe/Berlin:20231008T120000
DTEND;TZID=Europe/Berlin:20231008T163000
DTSTAMP:20260421T054941
CREATED:20230913T085136Z
LAST-MODIFIED:20230913T085136Z
UID:10001272-1696766400-1696782600@straubing-spiders.de
SUMMARY:U16 9er Verbandsliga Tackle Heimturnier
DESCRIPTION:Letztes Jahr haben die Spiders nach einigen Jahren wieder eine B-Tackle Mannschaft stellen können. In diesem Jahr gehen wir noch einen Schritt weiter und nehmen in der 9er Verbandsliga teil. Nun steht das Heimturnier der jüngsten Kontaktsportler in diesem Jahr an! Unsere Jungspinnen treffen am Sonntag\, den 08.10.2023 auf auf die Nürnberg Rams und die Spielgemeinschaft der Erding Bulls/Landsberg X-Press. Es wird ein toller und fairer Fight der Mannschaften erwartet. Seid dabei\, wenn unsere U16 die Pads anlegen und #Spidersfootball spielen! Kickoff ist um 12:00 Uhr im Spiderdome! 
URL:https://straubing-spiders.de/termin/u16-tackle-football-heimturnier/
LOCATION:Spider Dome\, Donausportzentrum Peterswöhrd\, Am Peterswöhrd 12\, Straubing\, Bayern\, 94315
CATEGORIES:Spiders U16
END:VEVENT
BEGIN:VEVENT
DTSTART;TZID=Europe/Berlin:20231021T120000
DTEND;TZID=Europe/Berlin:20231021T163000
DTSTAMP:20260421T054941
CREATED:20230913T091213Z
LAST-MODIFIED:20230913T091213Z
UID:10001274-1697889600-1697905800@straubing-spiders.de
SUMMARY:U16 9er Verbandsliga Tackle Turnier @SG Erding/Landsberg
DESCRIPTION:In diesem Jahr nehmen die Spiders in der 9er Verbandsliga teil. Nun steht das letzte Turnier der regulär Season unserer jüngsten Kontaktsportler in diesem Jahr an! Hier entscheidet sich der Einzug ins Finalturnier! Unsere Jungspinnen treffen am Samstag\, den 21.10.2023 in Erding/Landsberg auf die Fursty Razorbacks und die Spielgemeinschaft der Erding Bulls/Landsberg X-Press. Es wird ein toller und fairer Fight der Mannschaften erwartet. Seid dabei\, wenn unsere U16 die Pads anlegen und #Spidersfootball spielen! Kickoff ist um 12:00 Uhr! Unsere erste Begegnung startet um 13:15 Uhr\, die zweite um 14:30 Uhr.
URL:https://straubing-spiders.de/termin/u16-9er-verbandsliga-tackle-turnier-erding-landsberg/
LOCATION:Spider Dome\, Donausportzentrum Peterswöhrd\, Am Peterswöhrd 12\, Straubing\, Bayern\, 94315
CATEGORIES:Spiders U16
END:VEVENT
END:VCALENDAR