BEGIN:VCALENDAR
VERSION:2.0
PRODID:-//Straubing Spiders - ECPv6.15.20//NONSGML v1.0//EN
CALSCALE:GREGORIAN
METHOD:PUBLISH
X-ORIGINAL-URL:https://straubing-spiders.de
X-WR-CALDESC:Veranstaltungen für Straubing Spiders
REFRESH-INTERVAL;VALUE=DURATION:PT1H
X-Robots-Tag:noindex
X-PUBLISHED-TTL:PT1H
BEGIN:VTIMEZONE
TZID:Europe/Berlin
BEGIN:DAYLIGHT
TZOFFSETFROM:+0100
TZOFFSETTO:+0200
TZNAME:CEST
DTSTART:20220327T010000
END:DAYLIGHT
BEGIN:STANDARD
TZOFFSETFROM:+0200
TZOFFSETTO:+0100
TZNAME:CET
DTSTART:20221030T010000
END:STANDARD
BEGIN:DAYLIGHT
TZOFFSETFROM:+0100
TZOFFSETTO:+0200
TZNAME:CEST
DTSTART:20230326T010000
END:DAYLIGHT
BEGIN:STANDARD
TZOFFSETFROM:+0200
TZOFFSETTO:+0100
TZNAME:CET
DTSTART:20231029T010000
END:STANDARD
BEGIN:DAYLIGHT
TZOFFSETFROM:+0100
TZOFFSETTO:+0200
TZNAME:CEST
DTSTART:20240331T010000
END:DAYLIGHT
BEGIN:STANDARD
TZOFFSETFROM:+0200
TZOFFSETTO:+0100
TZNAME:CET
DTSTART:20241027T010000
END:STANDARD
END:VTIMEZONE
BEGIN:VEVENT
DTSTART;TZID=Europe/Berlin:20231103T164500
DTEND;TZID=Europe/Berlin:20231103T184500
DTSTAMP:20260423T090423
CREATED:20230516T145953Z
LAST-MODIFIED:20230516T145953Z
UID:10001217-1699029900-1699037100@straubing-spiders.de
SUMMARY:Training Flagfootball U11
DESCRIPTION:Die wöchentlichen Trainings des Straubing Spiders U11 Flagfootball-Teams finden immer Freitags von 16:45 – 18:45 Uhr beim Spiderdome statt. Teilnehmen darf JEDER im Alter von 7-11 Jahren und auch wenn Elternteile zusehen wollen ist dies kein Problem! Wir würden darum bitten zuvor mit uns in Kontakt zu treten um etwaige Trainingsabsagen oder sonstiges an Sie weitergeben zu können. Für’s Training werden lediglich Sportkleidung\, Wasser und Sportschuhe (wenn vorhanden Stollenschuhe) benötigt. Wir freuen uns auf DICH!
URL:https://straubing-spiders.de/termin/training-flagfootball-u11/2023-11-03/
LOCATION:Bayern
CATEGORIES:Flagfootball
END:VEVENT
BEGIN:VEVENT
DTSTART;TZID=Europe/Berlin:20231103T164500
DTEND;TZID=Europe/Berlin:20231103T191500
DTSTAMP:20260423T090423
CREATED:20231029T212254Z
LAST-MODIFIED:20231029T212511Z
UID:10001680-1699029900-1699038900@straubing-spiders.de
SUMMARY:Tryout SRS Juniors & Flagfootball
DESCRIPTION:NEWS – Tryout SRS Juniors und Flagfootball \nWE WANT YOU! \nFast all unsere Teams haben ihre diesjährige Saison abgeschlossen\, und die neue Saison 2024 steht bereits vor der Tür. Die Vorbereitungen laufen in unseren Nachwuchsteams schon auf Hochtouren! \nAm kommenden Freitag\, den 03. November 2023 laden die Straubing Spiders alle Footballbegeisterten der Jahrgänge 2005 bis 2012 zu einem Tryout ein! \nDu hattest schon immer Mal Lust\, dich im Football auszuprobieren? Egal ob Anfänger\, oder Spieler mit Erfahrung\, Jungs oder Mädels\, alle sind willkommen! \nWenn du also Bock auf Football hast\, melde über folgenden Link an: \nhttps://forms.office.com/Pages/ResponsePage.aspx?id=xbTKGOGZi0CofsWCBxJwOpPIxYkbBWBGsmhg50EbcK1UMVVPUVdSMkpSQ0Y2N1FWODNCTFgyTTI5Vi4u \n🗓️ Wann? \n\nNovember 2023\n\n16:45 Uhr bis 19:15 Uhr \n🚩Wo? \nPlatz 3 beim Spiderdome \nAm Peterswöhrd 12 \n94315 Straubing \nWas brauchst du? \nSportschuhe (bestenfalls Fußball- oder Stollenschuhe)\, Sportkleidung\, Trinken und Motivation! \nONE TEAM\, ONE TOWN\, ONE FAMILY!  \n  \n 
URL:https://straubing-spiders.de/termin/tryout-srs-juniors-flagfootball/
LOCATION:Spider Dome\, Donausportzentrum Peterswöhrd\, Am Peterswöhrd 12\, Straubing\, Bayern\, 94315
CATEGORIES:Flagfootball,Spiders U16,Spiders U19
ATTACH;FMTTYPE=image/png:https://straubing-spiders.de/wp-content/uploads/2023/10/16.png
END:VEVENT
BEGIN:VEVENT
DTSTART;TZID=Europe/Berlin:20231105T094500
DTEND;TZID=Europe/Berlin:20231105T120000
DTSTAMP:20260423T090423
CREATED:20231026T145545Z
LAST-MODIFIED:20240224T121326Z
UID:10001791-1699177500-1699185600@straubing-spiders.de
SUMMARY:Training Flagfootball U13
DESCRIPTION:Die wöchentlichen Trainings des Straubing Spiders U13 Flagfootball-Team während der Hallensaison finden immer Sonntags von 09:45 Uhr bis 12:00 Uhr in der Turnhalle des Anton-Bruckner-Gymnasiums statt. Teilnehmen darf JEDER im Alter von 11-13 Jahren und auch wenn Elternteile zusehen wollen ist dies kein Problem! Wir würden darum bitten zuvor mit uns in Kontakt zu treten um etwaige Trainingsabsagen oder sonstiges an Sie weitergeben zu können. Für’s Training werden lediglich Sportkleidung\, Wasser und Hallenschuhe (alternativ auch saubere Straßenschuhe) benötigt. Wir freuen uns auf DICH!
URL:https://straubing-spiders.de/termin/training-flagfootball-u13-2/2023-11-05/
LOCATION:Turnhalle Anton-Bruckner-Gymnasium\, Straubing\, Hans-Adlhoch-Straße 23\, Straubing\, 94315\, Deutschland
CATEGORIES:Flagfootball
END:VEVENT
BEGIN:VEVENT
DTSTART;TZID=Europe/Berlin:20231105T094500
DTEND;TZID=Europe/Berlin:20231105T120000
DTSTAMP:20260423T090423
CREATED:20231026T145806Z
LAST-MODIFIED:20240106T232910Z
UID:10001718-1699177500-1699185600@straubing-spiders.de
SUMMARY:Training Flagfootball U16
DESCRIPTION:Die wöchentlichen Trainings des Straubing Spiders U16 Flagfootball-Team während der Hallensaison finden immer Samstags von 16:45 Uhr bis 19:00 Uhr in der Turnhalle des Anton-Bruckner-Gymnasiums statt. Teilnehmen darf JEDER im Alter von 13-16 Jahren und auch wenn Elternteile zusehen wollen ist dies kein Problem! Wir würden darum bitten zuvor mit uns in Kontakt zu treten um etwaige Trainingsabsagen oder sonstiges an Sie weitergeben zu können. Für’s Training werden lediglich Sportkleidung\, Wasser und Hallenschuhe (alternativ auch saubere Straßenschuhe) benötigt. Wir freuen uns auf DICH!
URL:https://straubing-spiders.de/termin/training-flagfootball-u16-2-2/2023-11-05/
LOCATION:Turnhalle Anton-Bruckner-Gymnasium\, Straubing\, Hans-Adlhoch-Straße 23\, Straubing\, 94315\, Deutschland
CATEGORIES:Flagfootball
END:VEVENT
BEGIN:VEVENT
DTSTART;TZID=Europe/Berlin:20231112T094500
DTEND;TZID=Europe/Berlin:20231112T120000
DTSTAMP:20260423T090423
CREATED:20231026T145545Z
LAST-MODIFIED:20240224T121326Z
UID:10001792-1699782300-1699790400@straubing-spiders.de
SUMMARY:Training Flagfootball U13
DESCRIPTION:Die wöchentlichen Trainings des Straubing Spiders U13 Flagfootball-Team während der Hallensaison finden immer Sonntags von 09:45 Uhr bis 12:00 Uhr in der Turnhalle des Anton-Bruckner-Gymnasiums statt. Teilnehmen darf JEDER im Alter von 11-13 Jahren und auch wenn Elternteile zusehen wollen ist dies kein Problem! Wir würden darum bitten zuvor mit uns in Kontakt zu treten um etwaige Trainingsabsagen oder sonstiges an Sie weitergeben zu können. Für’s Training werden lediglich Sportkleidung\, Wasser und Hallenschuhe (alternativ auch saubere Straßenschuhe) benötigt. Wir freuen uns auf DICH!
URL:https://straubing-spiders.de/termin/training-flagfootball-u13-2/2023-11-12/
LOCATION:Turnhalle Anton-Bruckner-Gymnasium\, Straubing\, Hans-Adlhoch-Straße 23\, Straubing\, 94315\, Deutschland
CATEGORIES:Flagfootball
END:VEVENT
BEGIN:VEVENT
DTSTART;TZID=Europe/Berlin:20231112T094500
DTEND;TZID=Europe/Berlin:20231112T120000
DTSTAMP:20260423T090423
CREATED:20231026T145806Z
LAST-MODIFIED:20240106T232910Z
UID:10001719-1699782300-1699790400@straubing-spiders.de
SUMMARY:Training Flagfootball U16
DESCRIPTION:Die wöchentlichen Trainings des Straubing Spiders U16 Flagfootball-Team während der Hallensaison finden immer Samstags von 16:45 Uhr bis 19:00 Uhr in der Turnhalle des Anton-Bruckner-Gymnasiums statt. Teilnehmen darf JEDER im Alter von 13-16 Jahren und auch wenn Elternteile zusehen wollen ist dies kein Problem! Wir würden darum bitten zuvor mit uns in Kontakt zu treten um etwaige Trainingsabsagen oder sonstiges an Sie weitergeben zu können. Für’s Training werden lediglich Sportkleidung\, Wasser und Hallenschuhe (alternativ auch saubere Straßenschuhe) benötigt. Wir freuen uns auf DICH!
URL:https://straubing-spiders.de/termin/training-flagfootball-u16-2-2/2023-11-12/
LOCATION:Turnhalle Anton-Bruckner-Gymnasium\, Straubing\, Hans-Adlhoch-Straße 23\, Straubing\, 94315\, Deutschland
CATEGORIES:Flagfootball
END:VEVENT
BEGIN:VEVENT
DTSTART;TZID=Europe/Berlin:20231119T094500
DTEND;TZID=Europe/Berlin:20231119T120000
DTSTAMP:20260423T090423
CREATED:20231026T145545Z
LAST-MODIFIED:20240224T121326Z
UID:10001793-1700387100-1700395200@straubing-spiders.de
SUMMARY:Training Flagfootball U13
DESCRIPTION:Die wöchentlichen Trainings des Straubing Spiders U13 Flagfootball-Team während der Hallensaison finden immer Sonntags von 09:45 Uhr bis 12:00 Uhr in der Turnhalle des Anton-Bruckner-Gymnasiums statt. Teilnehmen darf JEDER im Alter von 11-13 Jahren und auch wenn Elternteile zusehen wollen ist dies kein Problem! Wir würden darum bitten zuvor mit uns in Kontakt zu treten um etwaige Trainingsabsagen oder sonstiges an Sie weitergeben zu können. Für’s Training werden lediglich Sportkleidung\, Wasser und Hallenschuhe (alternativ auch saubere Straßenschuhe) benötigt. Wir freuen uns auf DICH!
URL:https://straubing-spiders.de/termin/training-flagfootball-u13-2/2023-11-19/
LOCATION:Turnhalle Anton-Bruckner-Gymnasium\, Straubing\, Hans-Adlhoch-Straße 23\, Straubing\, 94315\, Deutschland
CATEGORIES:Flagfootball
END:VEVENT
BEGIN:VEVENT
DTSTART;TZID=Europe/Berlin:20231119T094500
DTEND;TZID=Europe/Berlin:20231119T120000
DTSTAMP:20260423T090423
CREATED:20231026T145806Z
LAST-MODIFIED:20240106T232910Z
UID:10001720-1700387100-1700395200@straubing-spiders.de
SUMMARY:Training Flagfootball U16
DESCRIPTION:Die wöchentlichen Trainings des Straubing Spiders U16 Flagfootball-Team während der Hallensaison finden immer Samstags von 16:45 Uhr bis 19:00 Uhr in der Turnhalle des Anton-Bruckner-Gymnasiums statt. Teilnehmen darf JEDER im Alter von 13-16 Jahren und auch wenn Elternteile zusehen wollen ist dies kein Problem! Wir würden darum bitten zuvor mit uns in Kontakt zu treten um etwaige Trainingsabsagen oder sonstiges an Sie weitergeben zu können. Für’s Training werden lediglich Sportkleidung\, Wasser und Hallenschuhe (alternativ auch saubere Straßenschuhe) benötigt. Wir freuen uns auf DICH!
URL:https://straubing-spiders.de/termin/training-flagfootball-u16-2-2/2023-11-19/
LOCATION:Turnhalle Anton-Bruckner-Gymnasium\, Straubing\, Hans-Adlhoch-Straße 23\, Straubing\, 94315\, Deutschland
CATEGORIES:Flagfootball
END:VEVENT
BEGIN:VEVENT
DTSTART;TZID=Europe/Berlin:20231126T094500
DTEND;TZID=Europe/Berlin:20231126T120000
DTSTAMP:20260423T090423
CREATED:20231026T145545Z
LAST-MODIFIED:20240224T121326Z
UID:10001794-1700991900-1701000000@straubing-spiders.de
SUMMARY:Training Flagfootball U13
DESCRIPTION:Die wöchentlichen Trainings des Straubing Spiders U13 Flagfootball-Team während der Hallensaison finden immer Sonntags von 09:45 Uhr bis 12:00 Uhr in der Turnhalle des Anton-Bruckner-Gymnasiums statt. Teilnehmen darf JEDER im Alter von 11-13 Jahren und auch wenn Elternteile zusehen wollen ist dies kein Problem! Wir würden darum bitten zuvor mit uns in Kontakt zu treten um etwaige Trainingsabsagen oder sonstiges an Sie weitergeben zu können. Für’s Training werden lediglich Sportkleidung\, Wasser und Hallenschuhe (alternativ auch saubere Straßenschuhe) benötigt. Wir freuen uns auf DICH!
URL:https://straubing-spiders.de/termin/training-flagfootball-u13-2/2023-11-26/
LOCATION:Turnhalle Anton-Bruckner-Gymnasium\, Straubing\, Hans-Adlhoch-Straße 23\, Straubing\, 94315\, Deutschland
CATEGORIES:Flagfootball
END:VEVENT
BEGIN:VEVENT
DTSTART;TZID=Europe/Berlin:20231126T094500
DTEND;TZID=Europe/Berlin:20231126T120000
DTSTAMP:20260423T090423
CREATED:20231026T145806Z
LAST-MODIFIED:20240106T232910Z
UID:10001721-1700991900-1701000000@straubing-spiders.de
SUMMARY:Training Flagfootball U16
DESCRIPTION:Die wöchentlichen Trainings des Straubing Spiders U16 Flagfootball-Team während der Hallensaison finden immer Samstags von 16:45 Uhr bis 19:00 Uhr in der Turnhalle des Anton-Bruckner-Gymnasiums statt. Teilnehmen darf JEDER im Alter von 13-16 Jahren und auch wenn Elternteile zusehen wollen ist dies kein Problem! Wir würden darum bitten zuvor mit uns in Kontakt zu treten um etwaige Trainingsabsagen oder sonstiges an Sie weitergeben zu können. Für’s Training werden lediglich Sportkleidung\, Wasser und Hallenschuhe (alternativ auch saubere Straßenschuhe) benötigt. Wir freuen uns auf DICH!
URL:https://straubing-spiders.de/termin/training-flagfootball-u16-2-2/2023-11-26/
LOCATION:Turnhalle Anton-Bruckner-Gymnasium\, Straubing\, Hans-Adlhoch-Straße 23\, Straubing\, 94315\, Deutschland
CATEGORIES:Flagfootball
END:VEVENT
END:VCALENDAR