BEGIN:VCALENDAR
VERSION:2.0
PRODID:-//Straubing Spiders - ECPv6.15.20//NONSGML v1.0//EN
CALSCALE:GREGORIAN
METHOD:PUBLISH
X-ORIGINAL-URL:https://straubing-spiders.de
X-WR-CALDESC:Veranstaltungen für Straubing Spiders
REFRESH-INTERVAL;VALUE=DURATION:PT1H
X-Robots-Tag:noindex
X-PUBLISHED-TTL:PT1H
BEGIN:VTIMEZONE
TZID:Europe/Berlin
BEGIN:DAYLIGHT
TZOFFSETFROM:+0100
TZOFFSETTO:+0200
TZNAME:CEST
DTSTART:20220327T010000
END:DAYLIGHT
BEGIN:STANDARD
TZOFFSETFROM:+0200
TZOFFSETTO:+0100
TZNAME:CET
DTSTART:20221030T010000
END:STANDARD
BEGIN:DAYLIGHT
TZOFFSETFROM:+0100
TZOFFSETTO:+0200
TZNAME:CEST
DTSTART:20230326T010000
END:DAYLIGHT
BEGIN:STANDARD
TZOFFSETFROM:+0200
TZOFFSETTO:+0100
TZNAME:CET
DTSTART:20231029T010000
END:STANDARD
BEGIN:DAYLIGHT
TZOFFSETFROM:+0100
TZOFFSETTO:+0200
TZNAME:CEST
DTSTART:20240331T010000
END:DAYLIGHT
BEGIN:STANDARD
TZOFFSETFROM:+0200
TZOFFSETTO:+0100
TZNAME:CET
DTSTART:20241027T010000
END:STANDARD
END:VTIMEZONE
BEGIN:VEVENT
DTSTART;TZID=Europe/Berlin:20230701T100000
DTEND;TZID=Europe/Berlin:20230701T153000
DTSTAMP:20260423T165924
CREATED:20230614T102954Z
LAST-MODIFIED:20230616T132502Z
UID:10001266-1688205600-1688225400@straubing-spiders.de
SUMMARY:U13 Flagfootball Heimturnier
DESCRIPTION:Das erste Heimturnier bzw. das zweite Turnier unserer U13 Flagmannschaft steht an\, langsam beginnt die heiße Phase mit dem Kampf um den Einzug ins Finale! Nach den beiden Siegen im vergangenen Turnier treffen die Jungspinnen nun auf die München Rangers und Passau Pirates. Es wird ein toller und fairer Fight der drei Mannschaften erwartet. Seid dabei\, wenn unsere U13 die Flaggen anlegen und #Spidersfootball spielen! Kickoff ist um 10:00 Uhr beim Spiderdome! 
URL:https://straubing-spiders.de/termin/u13-flagfootball-heimturnier/
LOCATION:Spider Dome\, Donausportzentrum Peterswöhrd\, Am Peterswöhrd 12\, Straubing\, Bayern\, 94315
CATEGORIES:Flagfootball
END:VEVENT
BEGIN:VEVENT
DTSTART;TZID=Europe/Berlin:20230701T100000
DTEND;TZID=Europe/Berlin:20230701T170000
DTSTAMP:20260423T165924
CREATED:20230614T102122Z
LAST-MODIFIED:20230614T102122Z
UID:10001265-1688205600-1688230800@straubing-spiders.de
SUMMARY:U16 Flagfootball Turnier @Feldkirchen Lions
DESCRIPTION:Das letzte reguläre Flagturnier unserer U16 steht an. \nBeim Auswärtsturnier in Feldkirchen entscheidet sich\, wer in das Finalturnier einzieht. Wie bei den ersten beiden Turnieren liefern sich die Jungspielen spannende Spiele gegen die Ansbach Margraves und Feldkirchen Lions! Kickoff ist um 10:00 Uhr im TSV Feldkirchen\, Olympiastr. 1\, 85622 Feldkirchen!
URL:https://straubing-spiders.de/termin/u16-flagfootball-turnier-feldkirchen-lions/
LOCATION:Bayern
CATEGORIES:Flagfootball
END:VEVENT
BEGIN:VEVENT
DTSTART;TZID=Europe/Berlin:20230707T164500
DTEND;TZID=Europe/Berlin:20230707T184500
DTSTAMP:20260423T165924
CREATED:20230516T145953Z
LAST-MODIFIED:20230516T145953Z
UID:10001200-1688748300-1688755500@straubing-spiders.de
SUMMARY:Training Flagfootball U11
DESCRIPTION:Die wöchentlichen Trainings des Straubing Spiders U11 Flagfootball-Teams finden immer Freitags von 16:45 – 18:45 Uhr beim Spiderdome statt. Teilnehmen darf JEDER im Alter von 7-11 Jahren und auch wenn Elternteile zusehen wollen ist dies kein Problem! Wir würden darum bitten zuvor mit uns in Kontakt zu treten um etwaige Trainingsabsagen oder sonstiges an Sie weitergeben zu können. Für’s Training werden lediglich Sportkleidung\, Wasser und Sportschuhe (wenn vorhanden Stollenschuhe) benötigt. Wir freuen uns auf DICH!
URL:https://straubing-spiders.de/termin/training-flagfootball-u11/2023-07-07/
LOCATION:Bayern
CATEGORIES:Flagfootball
END:VEVENT
BEGIN:VEVENT
DTSTART;TZID=Europe/Berlin:20230707T164500
DTEND;TZID=Europe/Berlin:20230707T191500
DTSTAMP:20260423T165924
CREATED:20230516T145713Z
LAST-MODIFIED:20230516T150110Z
UID:10001130-1688748300-1688757300@straubing-spiders.de
SUMMARY:Training Flagfootball U13
DESCRIPTION:Die wöchentlichen Trainings des Straubing Spiders U13 Flagfootball-Teams finden immer Freitags von 16:45 – 19:15 Uhr beim Spiderdome statt. Teilnehmen darf JEDER im Alter von 11-13 Jahren und auch wenn Elternteile zusehen wollen ist dies kein Problem! Wir würden darum bitten zuvor mit uns in Kontakt zu treten um etwaige Trainingsabsagen oder sonstiges an Sie weitergeben zu können. Für’s Training werden lediglich Sportkleidung\, Wasser und Sportschuhe (wenn vorhanden Stollenschuhe) benötigt. Wir freuen uns auf DICH!
URL:https://straubing-spiders.de/termin/training-flagfootball-u13/2023-07-07/
LOCATION:Bayern
CATEGORIES:Flagfootball
END:VEVENT
BEGIN:VEVENT
DTSTART;TZID=Europe/Berlin:20230714T164500
DTEND;TZID=Europe/Berlin:20230714T184500
DTSTAMP:20260423T165924
CREATED:20230516T145953Z
LAST-MODIFIED:20230516T145953Z
UID:10001201-1689353100-1689360300@straubing-spiders.de
SUMMARY:Training Flagfootball U11
DESCRIPTION:Die wöchentlichen Trainings des Straubing Spiders U11 Flagfootball-Teams finden immer Freitags von 16:45 – 18:45 Uhr beim Spiderdome statt. Teilnehmen darf JEDER im Alter von 7-11 Jahren und auch wenn Elternteile zusehen wollen ist dies kein Problem! Wir würden darum bitten zuvor mit uns in Kontakt zu treten um etwaige Trainingsabsagen oder sonstiges an Sie weitergeben zu können. Für’s Training werden lediglich Sportkleidung\, Wasser und Sportschuhe (wenn vorhanden Stollenschuhe) benötigt. Wir freuen uns auf DICH!
URL:https://straubing-spiders.de/termin/training-flagfootball-u11/2023-07-14/
LOCATION:Bayern
CATEGORIES:Flagfootball
END:VEVENT
BEGIN:VEVENT
DTSTART;TZID=Europe/Berlin:20230714T164500
DTEND;TZID=Europe/Berlin:20230714T191500
DTSTAMP:20260423T165924
CREATED:20230516T145713Z
LAST-MODIFIED:20230516T150110Z
UID:10001131-1689353100-1689362100@straubing-spiders.de
SUMMARY:Training Flagfootball U13
DESCRIPTION:Die wöchentlichen Trainings des Straubing Spiders U13 Flagfootball-Teams finden immer Freitags von 16:45 – 19:15 Uhr beim Spiderdome statt. Teilnehmen darf JEDER im Alter von 11-13 Jahren und auch wenn Elternteile zusehen wollen ist dies kein Problem! Wir würden darum bitten zuvor mit uns in Kontakt zu treten um etwaige Trainingsabsagen oder sonstiges an Sie weitergeben zu können. Für’s Training werden lediglich Sportkleidung\, Wasser und Sportschuhe (wenn vorhanden Stollenschuhe) benötigt. Wir freuen uns auf DICH!
URL:https://straubing-spiders.de/termin/training-flagfootball-u13/2023-07-14/
LOCATION:Bayern
CATEGORIES:Flagfootball
END:VEVENT
BEGIN:VEVENT
DTSTART;TZID=Europe/Berlin:20230721T164500
DTEND;TZID=Europe/Berlin:20230721T184500
DTSTAMP:20260423T165924
CREATED:20230516T145953Z
LAST-MODIFIED:20230516T145953Z
UID:10001202-1689957900-1689965100@straubing-spiders.de
SUMMARY:Training Flagfootball U11
DESCRIPTION:Die wöchentlichen Trainings des Straubing Spiders U11 Flagfootball-Teams finden immer Freitags von 16:45 – 18:45 Uhr beim Spiderdome statt. Teilnehmen darf JEDER im Alter von 7-11 Jahren und auch wenn Elternteile zusehen wollen ist dies kein Problem! Wir würden darum bitten zuvor mit uns in Kontakt zu treten um etwaige Trainingsabsagen oder sonstiges an Sie weitergeben zu können. Für’s Training werden lediglich Sportkleidung\, Wasser und Sportschuhe (wenn vorhanden Stollenschuhe) benötigt. Wir freuen uns auf DICH!
URL:https://straubing-spiders.de/termin/training-flagfootball-u11/2023-07-21/
LOCATION:Bayern
CATEGORIES:Flagfootball
END:VEVENT
BEGIN:VEVENT
DTSTART;TZID=Europe/Berlin:20230721T164500
DTEND;TZID=Europe/Berlin:20230721T191500
DTSTAMP:20260423T165924
CREATED:20230516T145713Z
LAST-MODIFIED:20230516T150110Z
UID:10001132-1689957900-1689966900@straubing-spiders.de
SUMMARY:Training Flagfootball U13
DESCRIPTION:Die wöchentlichen Trainings des Straubing Spiders U13 Flagfootball-Teams finden immer Freitags von 16:45 – 19:15 Uhr beim Spiderdome statt. Teilnehmen darf JEDER im Alter von 11-13 Jahren und auch wenn Elternteile zusehen wollen ist dies kein Problem! Wir würden darum bitten zuvor mit uns in Kontakt zu treten um etwaige Trainingsabsagen oder sonstiges an Sie weitergeben zu können. Für’s Training werden lediglich Sportkleidung\, Wasser und Sportschuhe (wenn vorhanden Stollenschuhe) benötigt. Wir freuen uns auf DICH!
URL:https://straubing-spiders.de/termin/training-flagfootball-u13/2023-07-21/
LOCATION:Bayern
CATEGORIES:Flagfootball
END:VEVENT
BEGIN:VEVENT
DTSTART;TZID=Europe/Berlin:20230723T100000
DTEND;TZID=Europe/Berlin:20230723T170000
DTSTAMP:20260423T165924
CREATED:20230701T162730Z
LAST-MODIFIED:20230704T220314Z
UID:10001267-1690106400-1690131600@straubing-spiders.de
SUMMARY:SRS U16 Flagfootball @Bayerische Meisterschaft in Ansbach
DESCRIPTION:Wie versprochen\, lieferten sich unsere Jungspinnen im letzten regulären Flagturnier in Feldkirchen zwei hoch spannende Partien. Daraus resultierend musste sich die U16 in beiden Spielen des Turnieres mit einem Unentschieden zufrieden geben. \nAufgrund der vorangegangenen Turniere konnten sie sich dennoch für die Bayerische Mannschaft qualifizieren. \nIm Finalturnier am 23. Juli – ausgetragen von den Ansbach Margraves\, welche sich ebenfalls qualifiziert haben – trifft unsere Flagmannschaft des Weiteren auf die Fursty Razorbacks und Allgäu Comets. \nWeitere Infos zu dem genauen Austragungsort und Zeit folgen!
URL:https://straubing-spiders.de/termin/srs-u16-flagfootball-bayerische-meisterschaft-in-ansbach/
LOCATION:Bayern
CATEGORIES:Flagfootball
END:VEVENT
BEGIN:VEVENT
DTSTART;TZID=Europe/Berlin:20230723T100000
DTEND;TZID=Europe/Berlin:20230723T170000
DTSTAMP:20260423T165924
CREATED:20230709T153440Z
LAST-MODIFIED:20230709T154255Z
UID:10001268-1690106400-1690131600@straubing-spiders.de
SUMMARY:SRS U13 Flagfootball @Bayerische Meisterschaft in Ingolstadt
DESCRIPTION:Wie in der Hallensaison 2023 auch\, konnte sich unsere U13 Flagmannschaft nach dem dritten und letzten regulären Turnier der Feldsaison 2023 ungeschlagen für die bayerische Meisterschaft in Ingolstadt qualifizieren. \nGegen wen sich unsere Jungspinnen in Ingolstadt durchsetzen müssen\, ist noch nicht bekannt\, da in den anderen Gruppen die reguläre Saison noch nicht beendet ist. \nWir sind gespannt und halten euch auf dem Laufenden – weitere Infos zu dem genauen Austragungsort und Zeit folgen!
URL:https://straubing-spiders.de/termin/srs-u13-flagfootball-bayerische-meisterschaft-in-ingolstadt/
LOCATION:Bayern
CATEGORIES:Flagfootball
END:VEVENT
BEGIN:VEVENT
DTSTART;TZID=Europe/Berlin:20230728T164500
DTEND;TZID=Europe/Berlin:20230728T184500
DTSTAMP:20260423T165924
CREATED:20230516T145953Z
LAST-MODIFIED:20230516T145953Z
UID:10001203-1690562700-1690569900@straubing-spiders.de
SUMMARY:Training Flagfootball U11
DESCRIPTION:Die wöchentlichen Trainings des Straubing Spiders U11 Flagfootball-Teams finden immer Freitags von 16:45 – 18:45 Uhr beim Spiderdome statt. Teilnehmen darf JEDER im Alter von 7-11 Jahren und auch wenn Elternteile zusehen wollen ist dies kein Problem! Wir würden darum bitten zuvor mit uns in Kontakt zu treten um etwaige Trainingsabsagen oder sonstiges an Sie weitergeben zu können. Für’s Training werden lediglich Sportkleidung\, Wasser und Sportschuhe (wenn vorhanden Stollenschuhe) benötigt. Wir freuen uns auf DICH!
URL:https://straubing-spiders.de/termin/training-flagfootball-u11/2023-07-28/
LOCATION:Bayern
CATEGORIES:Flagfootball
END:VEVENT
BEGIN:VEVENT
DTSTART;TZID=Europe/Berlin:20230728T164500
DTEND;TZID=Europe/Berlin:20230728T191500
DTSTAMP:20260423T165924
CREATED:20230516T145713Z
LAST-MODIFIED:20230516T150110Z
UID:10001133-1690562700-1690571700@straubing-spiders.de
SUMMARY:Training Flagfootball U13
DESCRIPTION:Die wöchentlichen Trainings des Straubing Spiders U13 Flagfootball-Teams finden immer Freitags von 16:45 – 19:15 Uhr beim Spiderdome statt. Teilnehmen darf JEDER im Alter von 11-13 Jahren und auch wenn Elternteile zusehen wollen ist dies kein Problem! Wir würden darum bitten zuvor mit uns in Kontakt zu treten um etwaige Trainingsabsagen oder sonstiges an Sie weitergeben zu können. Für’s Training werden lediglich Sportkleidung\, Wasser und Sportschuhe (wenn vorhanden Stollenschuhe) benötigt. Wir freuen uns auf DICH!
URL:https://straubing-spiders.de/termin/training-flagfootball-u13/2023-07-28/
LOCATION:Bayern
CATEGORIES:Flagfootball
END:VEVENT
END:VCALENDAR