BEGIN:VCALENDAR
VERSION:2.0
PRODID:-//Straubing Spiders - ECPv6.15.20//NONSGML v1.0//EN
CALSCALE:GREGORIAN
METHOD:PUBLISH
X-ORIGINAL-URL:https://straubing-spiders.de
X-WR-CALDESC:Veranstaltungen für Straubing Spiders
REFRESH-INTERVAL;VALUE=DURATION:PT1H
X-Robots-Tag:noindex
X-PUBLISHED-TTL:PT1H
BEGIN:VTIMEZONE
TZID:Europe/Berlin
BEGIN:DAYLIGHT
TZOFFSETFROM:+0100
TZOFFSETTO:+0200
TZNAME:CEST
DTSTART:20220327T010000
END:DAYLIGHT
BEGIN:STANDARD
TZOFFSETFROM:+0200
TZOFFSETTO:+0100
TZNAME:CET
DTSTART:20221030T010000
END:STANDARD
BEGIN:DAYLIGHT
TZOFFSETFROM:+0100
TZOFFSETTO:+0200
TZNAME:CEST
DTSTART:20230326T010000
END:DAYLIGHT
BEGIN:STANDARD
TZOFFSETFROM:+0200
TZOFFSETTO:+0100
TZNAME:CET
DTSTART:20231029T010000
END:STANDARD
BEGIN:DAYLIGHT
TZOFFSETFROM:+0100
TZOFFSETTO:+0200
TZNAME:CEST
DTSTART:20240331T010000
END:DAYLIGHT
BEGIN:STANDARD
TZOFFSETFROM:+0200
TZOFFSETTO:+0100
TZNAME:CET
DTSTART:20241027T010000
END:STANDARD
END:VTIMEZONE
BEGIN:VEVENT
DTSTART;TZID=Europe/Berlin:20230901T164500
DTEND;TZID=Europe/Berlin:20230901T184500
DTSTAMP:20260422T191324
CREATED:20230516T145953Z
LAST-MODIFIED:20230516T145953Z
UID:10001208-1693586700-1693593900@straubing-spiders.de
SUMMARY:Training Flagfootball U11
DESCRIPTION:Die wöchentlichen Trainings des Straubing Spiders U11 Flagfootball-Teams finden immer Freitags von 16:45 – 18:45 Uhr beim Spiderdome statt. Teilnehmen darf JEDER im Alter von 7-11 Jahren und auch wenn Elternteile zusehen wollen ist dies kein Problem! Wir würden darum bitten zuvor mit uns in Kontakt zu treten um etwaige Trainingsabsagen oder sonstiges an Sie weitergeben zu können. Für’s Training werden lediglich Sportkleidung\, Wasser und Sportschuhe (wenn vorhanden Stollenschuhe) benötigt. Wir freuen uns auf DICH!
URL:https://straubing-spiders.de/termin/training-flagfootball-u11/2023-09-01/
LOCATION:Bayern
CATEGORIES:Flagfootball
END:VEVENT
BEGIN:VEVENT
DTSTART;TZID=Europe/Berlin:20230901T164500
DTEND;TZID=Europe/Berlin:20230901T191500
DTSTAMP:20260422T191324
CREATED:20230516T145341Z
LAST-MODIFIED:20230516T145341Z
UID:10001004-1693586700-1693595700@straubing-spiders.de
SUMMARY:Training Flagfootball U16
DESCRIPTION:Die wöchentlichen Trainings des Straubing Spiders U16 Flagfootball-Teams finden immer Montags von 19:00 – 21:00 Uhr und Freitags von 16:45 – 19:15 Uhr beim Spiderdome statt. Teilnehmen darf JEDER im Alter von 14-16 Jahren und auch wenn Elternteile zusehen wollen ist dies kein Problem! Wir würden darum bitten zuvor mit uns in Kontakt zu treten um etwaige Trainingsabsagen oder sonstiges an Sie weitergeben zu können. Für’s Training werden lediglich Sportkleidung\, Wasser und Sportschuhe (wenn vorhanden Stollenschuhe) benötigt. Wir freuen uns auf DICH!
URL:https://straubing-spiders.de/termin/training-flagfootball-u16-2/2023-09-01/
LOCATION:Bayern
CATEGORIES:Flagfootball
END:VEVENT
BEGIN:VEVENT
DTSTART;TZID=Europe/Berlin:20230901T164500
DTEND;TZID=Europe/Berlin:20230901T191500
DTSTAMP:20260422T191324
CREATED:20230516T145713Z
LAST-MODIFIED:20230516T150110Z
UID:10001138-1693586700-1693595700@straubing-spiders.de
SUMMARY:Training Flagfootball U13
DESCRIPTION:Die wöchentlichen Trainings des Straubing Spiders U13 Flagfootball-Teams finden immer Freitags von 16:45 – 19:15 Uhr beim Spiderdome statt. Teilnehmen darf JEDER im Alter von 11-13 Jahren und auch wenn Elternteile zusehen wollen ist dies kein Problem! Wir würden darum bitten zuvor mit uns in Kontakt zu treten um etwaige Trainingsabsagen oder sonstiges an Sie weitergeben zu können. Für’s Training werden lediglich Sportkleidung\, Wasser und Sportschuhe (wenn vorhanden Stollenschuhe) benötigt. Wir freuen uns auf DICH!
URL:https://straubing-spiders.de/termin/training-flagfootball-u13/2023-09-01/
LOCATION:Bayern
CATEGORIES:Flagfootball
END:VEVENT
BEGIN:VEVENT
DTSTART;TZID=Europe/Berlin:20230901T190000
DTEND;TZID=Europe/Berlin:20230901T210000
DTSTAMP:20260422T191324
CREATED:20230428T091750Z
LAST-MODIFIED:20230502T072538Z
UID:10000605-1693594800-1693602000@straubing-spiders.de
SUMMARY:Training II und GFL
DESCRIPTION:
URL:https://straubing-spiders.de/termin/training-ii-und-gfl-2/2023-09-01/
LOCATION:Bayern
CATEGORIES:Spiders GFL,Spiders II
END:VEVENT
BEGIN:VEVENT
DTSTART;TZID=Europe/Berlin:20230902T180000
DTEND;TZID=Europe/Berlin:20230902T210000
DTSTAMP:20260422T191324
CREATED:20230428T094612Z
LAST-MODIFIED:20230629T053233Z
UID:10000859-1693677600-1693688400@straubing-spiders.de
SUMMARY:Straubing Spiders vs. Saarland Hurricanes
DESCRIPTION:
URL:https://straubing-spiders.de/termin/straubing-spiders-vs-saarland-hurricanes-2/
LOCATION:Bayern
CATEGORIES:Spiders GFL
END:VEVENT
BEGIN:VEVENT
DTSTART;TZID=Europe/Berlin:20230904T190000
DTEND;TZID=Europe/Berlin:20230904T210000
DTSTAMP:20260422T191324
CREATED:20230516T144637Z
LAST-MODIFIED:20230516T144637Z
UID:10000877-1693854000-1693861200@straubing-spiders.de
SUMMARY:Training Flagfootball U16
DESCRIPTION:Die wöchentlichen Trainings des Straubing Spiders U16 Flagfootball-Teams finden immer Montags von 19:00 – 21:00 Uhr und Freitags von 16:45 – 19:15 Uhr beim Spiderdome statt. Teilnehmen darf JEDER im Alter von 14-16 Jahren und auch wenn Elternteile zusehen wollen ist dies kein Problem! Wir würden darum bitten zuvor mit uns in Kontakt zu treten um etwaige Trainingsabsagen oder sonstiges an Sie weitergeben zu können. Für’s Training werden lediglich Sportkleidung\, Wasser und Sportschuhe (wenn vorhanden Stollenschuhe) benötigt. Wir freuen uns auf DICH!
URL:https://straubing-spiders.de/termin/training-flagfootball-u16/2023-09-04/
LOCATION:Bayern
CATEGORIES:Flagfootball
END:VEVENT
BEGIN:VEVENT
DTSTART;TZID=Europe/Berlin:20230906T190000
DTEND;TZID=Europe/Berlin:20230906T210000
DTSTAMP:20260422T191324
CREATED:20230428T091621Z
LAST-MODIFIED:20230502T072616Z
UID:10000332-1694026800-1694034000@straubing-spiders.de
SUMMARY:Training II und GFL
DESCRIPTION:
URL:https://straubing-spiders.de/termin/training-ii-und-gfl/2023-09-06/
LOCATION:Bayern
CATEGORIES:Spiders GFL,Spiders II
END:VEVENT
BEGIN:VEVENT
DTSTART;TZID=Europe/Berlin:20230908T164500
DTEND;TZID=Europe/Berlin:20230908T184500
DTSTAMP:20260422T191324
CREATED:20230516T145953Z
LAST-MODIFIED:20230516T145953Z
UID:10001209-1694191500-1694198700@straubing-spiders.de
SUMMARY:Training Flagfootball U11
DESCRIPTION:Die wöchentlichen Trainings des Straubing Spiders U11 Flagfootball-Teams finden immer Freitags von 16:45 – 18:45 Uhr beim Spiderdome statt. Teilnehmen darf JEDER im Alter von 7-11 Jahren und auch wenn Elternteile zusehen wollen ist dies kein Problem! Wir würden darum bitten zuvor mit uns in Kontakt zu treten um etwaige Trainingsabsagen oder sonstiges an Sie weitergeben zu können. Für’s Training werden lediglich Sportkleidung\, Wasser und Sportschuhe (wenn vorhanden Stollenschuhe) benötigt. Wir freuen uns auf DICH!
URL:https://straubing-spiders.de/termin/training-flagfootball-u11/2023-09-08/
LOCATION:Bayern
CATEGORIES:Flagfootball
END:VEVENT
BEGIN:VEVENT
DTSTART;TZID=Europe/Berlin:20230908T164500
DTEND;TZID=Europe/Berlin:20230908T191500
DTSTAMP:20260422T191324
CREATED:20230516T145341Z
LAST-MODIFIED:20230516T145341Z
UID:10001005-1694191500-1694200500@straubing-spiders.de
SUMMARY:Training Flagfootball U16
DESCRIPTION:Die wöchentlichen Trainings des Straubing Spiders U16 Flagfootball-Teams finden immer Montags von 19:00 – 21:00 Uhr und Freitags von 16:45 – 19:15 Uhr beim Spiderdome statt. Teilnehmen darf JEDER im Alter von 14-16 Jahren und auch wenn Elternteile zusehen wollen ist dies kein Problem! Wir würden darum bitten zuvor mit uns in Kontakt zu treten um etwaige Trainingsabsagen oder sonstiges an Sie weitergeben zu können. Für’s Training werden lediglich Sportkleidung\, Wasser und Sportschuhe (wenn vorhanden Stollenschuhe) benötigt. Wir freuen uns auf DICH!
URL:https://straubing-spiders.de/termin/training-flagfootball-u16-2/2023-09-08/
LOCATION:Bayern
CATEGORIES:Flagfootball
END:VEVENT
BEGIN:VEVENT
DTSTART;TZID=Europe/Berlin:20230908T164500
DTEND;TZID=Europe/Berlin:20230908T191500
DTSTAMP:20260422T191324
CREATED:20230516T145713Z
LAST-MODIFIED:20230516T150110Z
UID:10001139-1694191500-1694200500@straubing-spiders.de
SUMMARY:Training Flagfootball U13
DESCRIPTION:Die wöchentlichen Trainings des Straubing Spiders U13 Flagfootball-Teams finden immer Freitags von 16:45 – 19:15 Uhr beim Spiderdome statt. Teilnehmen darf JEDER im Alter von 11-13 Jahren und auch wenn Elternteile zusehen wollen ist dies kein Problem! Wir würden darum bitten zuvor mit uns in Kontakt zu treten um etwaige Trainingsabsagen oder sonstiges an Sie weitergeben zu können. Für’s Training werden lediglich Sportkleidung\, Wasser und Sportschuhe (wenn vorhanden Stollenschuhe) benötigt. Wir freuen uns auf DICH!
URL:https://straubing-spiders.de/termin/training-flagfootball-u13/2023-09-08/
LOCATION:Bayern
CATEGORIES:Flagfootball
END:VEVENT
BEGIN:VEVENT
DTSTART;TZID=Europe/Berlin:20230908T190000
DTEND;TZID=Europe/Berlin:20230908T210000
DTSTAMP:20260422T191324
CREATED:20230428T091750Z
LAST-MODIFIED:20230502T072538Z
UID:10000606-1694199600-1694206800@straubing-spiders.de
SUMMARY:Training II und GFL
DESCRIPTION:
URL:https://straubing-spiders.de/termin/training-ii-und-gfl-2/2023-09-08/
LOCATION:Bayern
CATEGORIES:Spiders GFL,Spiders II
END:VEVENT
BEGIN:VEVENT
DTSTART;TZID=Europe/Berlin:20230910T150000
DTEND;TZID=Europe/Berlin:20230910T180000
DTSTAMP:20260422T191324
CREATED:20230428T094714Z
LAST-MODIFIED:20230629T053200Z
UID:10000860-1694358000-1694368800@straubing-spiders.de
SUMMARY:Marburg Mercenaries vs. Straubing Spiders
DESCRIPTION:
URL:https://straubing-spiders.de/termin/marburg-mercenaries-vs-straubing-spiders/
LOCATION:Bayern
CATEGORIES:Spiders GFL
END:VEVENT
BEGIN:VEVENT
DTSTART;TZID=Europe/Berlin:20230911T190000
DTEND;TZID=Europe/Berlin:20230911T210000
DTSTAMP:20260422T191324
CREATED:20230516T144637Z
LAST-MODIFIED:20230516T144637Z
UID:10000878-1694458800-1694466000@straubing-spiders.de
SUMMARY:Training Flagfootball U16
DESCRIPTION:Die wöchentlichen Trainings des Straubing Spiders U16 Flagfootball-Teams finden immer Montags von 19:00 – 21:00 Uhr und Freitags von 16:45 – 19:15 Uhr beim Spiderdome statt. Teilnehmen darf JEDER im Alter von 14-16 Jahren und auch wenn Elternteile zusehen wollen ist dies kein Problem! Wir würden darum bitten zuvor mit uns in Kontakt zu treten um etwaige Trainingsabsagen oder sonstiges an Sie weitergeben zu können. Für’s Training werden lediglich Sportkleidung\, Wasser und Sportschuhe (wenn vorhanden Stollenschuhe) benötigt. Wir freuen uns auf DICH!
URL:https://straubing-spiders.de/termin/training-flagfootball-u16/2023-09-11/
LOCATION:Bayern
CATEGORIES:Flagfootball
END:VEVENT
BEGIN:VEVENT
DTSTART;TZID=Europe/Berlin:20230915T164500
DTEND;TZID=Europe/Berlin:20230915T184500
DTSTAMP:20260422T191324
CREATED:20230516T145953Z
LAST-MODIFIED:20230516T145953Z
UID:10001210-1694796300-1694803500@straubing-spiders.de
SUMMARY:Training Flagfootball U11
DESCRIPTION:Die wöchentlichen Trainings des Straubing Spiders U11 Flagfootball-Teams finden immer Freitags von 16:45 – 18:45 Uhr beim Spiderdome statt. Teilnehmen darf JEDER im Alter von 7-11 Jahren und auch wenn Elternteile zusehen wollen ist dies kein Problem! Wir würden darum bitten zuvor mit uns in Kontakt zu treten um etwaige Trainingsabsagen oder sonstiges an Sie weitergeben zu können. Für’s Training werden lediglich Sportkleidung\, Wasser und Sportschuhe (wenn vorhanden Stollenschuhe) benötigt. Wir freuen uns auf DICH!
URL:https://straubing-spiders.de/termin/training-flagfootball-u11/2023-09-15/
LOCATION:Bayern
CATEGORIES:Flagfootball
END:VEVENT
BEGIN:VEVENT
DTSTART;TZID=Europe/Berlin:20230915T164500
DTEND;TZID=Europe/Berlin:20230915T191500
DTSTAMP:20260422T191324
CREATED:20230516T145341Z
LAST-MODIFIED:20230516T145341Z
UID:10001006-1694796300-1694805300@straubing-spiders.de
SUMMARY:Training Flagfootball U16
DESCRIPTION:Die wöchentlichen Trainings des Straubing Spiders U16 Flagfootball-Teams finden immer Montags von 19:00 – 21:00 Uhr und Freitags von 16:45 – 19:15 Uhr beim Spiderdome statt. Teilnehmen darf JEDER im Alter von 14-16 Jahren und auch wenn Elternteile zusehen wollen ist dies kein Problem! Wir würden darum bitten zuvor mit uns in Kontakt zu treten um etwaige Trainingsabsagen oder sonstiges an Sie weitergeben zu können. Für’s Training werden lediglich Sportkleidung\, Wasser und Sportschuhe (wenn vorhanden Stollenschuhe) benötigt. Wir freuen uns auf DICH!
URL:https://straubing-spiders.de/termin/training-flagfootball-u16-2/2023-09-15/
LOCATION:Bayern
CATEGORIES:Flagfootball
END:VEVENT
BEGIN:VEVENT
DTSTART;TZID=Europe/Berlin:20230915T164500
DTEND;TZID=Europe/Berlin:20230915T191500
DTSTAMP:20260422T191324
CREATED:20230516T145713Z
LAST-MODIFIED:20230516T150110Z
UID:10001140-1694796300-1694805300@straubing-spiders.de
SUMMARY:Training Flagfootball U13
DESCRIPTION:Die wöchentlichen Trainings des Straubing Spiders U13 Flagfootball-Teams finden immer Freitags von 16:45 – 19:15 Uhr beim Spiderdome statt. Teilnehmen darf JEDER im Alter von 11-13 Jahren und auch wenn Elternteile zusehen wollen ist dies kein Problem! Wir würden darum bitten zuvor mit uns in Kontakt zu treten um etwaige Trainingsabsagen oder sonstiges an Sie weitergeben zu können. Für’s Training werden lediglich Sportkleidung\, Wasser und Sportschuhe (wenn vorhanden Stollenschuhe) benötigt. Wir freuen uns auf DICH!
URL:https://straubing-spiders.de/termin/training-flagfootball-u13/2023-09-15/
LOCATION:Bayern
CATEGORIES:Flagfootball
END:VEVENT
BEGIN:VEVENT
DTSTART;TZID=Europe/Berlin:20230918T190000
DTEND;TZID=Europe/Berlin:20230918T210000
DTSTAMP:20260422T191324
CREATED:20230516T144637Z
LAST-MODIFIED:20230516T144637Z
UID:10000879-1695063600-1695070800@straubing-spiders.de
SUMMARY:Training Flagfootball U16
DESCRIPTION:Die wöchentlichen Trainings des Straubing Spiders U16 Flagfootball-Teams finden immer Montags von 19:00 – 21:00 Uhr und Freitags von 16:45 – 19:15 Uhr beim Spiderdome statt. Teilnehmen darf JEDER im Alter von 14-16 Jahren und auch wenn Elternteile zusehen wollen ist dies kein Problem! Wir würden darum bitten zuvor mit uns in Kontakt zu treten um etwaige Trainingsabsagen oder sonstiges an Sie weitergeben zu können. Für’s Training werden lediglich Sportkleidung\, Wasser und Sportschuhe (wenn vorhanden Stollenschuhe) benötigt. Wir freuen uns auf DICH!
URL:https://straubing-spiders.de/termin/training-flagfootball-u16/2023-09-18/
LOCATION:Bayern
CATEGORIES:Flagfootball
END:VEVENT
BEGIN:VEVENT
DTSTART;TZID=Europe/Berlin:20230922T164500
DTEND;TZID=Europe/Berlin:20230922T184500
DTSTAMP:20260422T191324
CREATED:20230516T145953Z
LAST-MODIFIED:20230516T145953Z
UID:10001211-1695401100-1695408300@straubing-spiders.de
SUMMARY:Training Flagfootball U11
DESCRIPTION:Die wöchentlichen Trainings des Straubing Spiders U11 Flagfootball-Teams finden immer Freitags von 16:45 – 18:45 Uhr beim Spiderdome statt. Teilnehmen darf JEDER im Alter von 7-11 Jahren und auch wenn Elternteile zusehen wollen ist dies kein Problem! Wir würden darum bitten zuvor mit uns in Kontakt zu treten um etwaige Trainingsabsagen oder sonstiges an Sie weitergeben zu können. Für’s Training werden lediglich Sportkleidung\, Wasser und Sportschuhe (wenn vorhanden Stollenschuhe) benötigt. Wir freuen uns auf DICH!
URL:https://straubing-spiders.de/termin/training-flagfootball-u11/2023-09-22/
LOCATION:Bayern
CATEGORIES:Flagfootball
END:VEVENT
BEGIN:VEVENT
DTSTART;TZID=Europe/Berlin:20230922T164500
DTEND;TZID=Europe/Berlin:20230922T191500
DTSTAMP:20260422T191324
CREATED:20230516T145341Z
LAST-MODIFIED:20230516T145341Z
UID:10001007-1695401100-1695410100@straubing-spiders.de
SUMMARY:Training Flagfootball U16
DESCRIPTION:Die wöchentlichen Trainings des Straubing Spiders U16 Flagfootball-Teams finden immer Montags von 19:00 – 21:00 Uhr und Freitags von 16:45 – 19:15 Uhr beim Spiderdome statt. Teilnehmen darf JEDER im Alter von 14-16 Jahren und auch wenn Elternteile zusehen wollen ist dies kein Problem! Wir würden darum bitten zuvor mit uns in Kontakt zu treten um etwaige Trainingsabsagen oder sonstiges an Sie weitergeben zu können. Für’s Training werden lediglich Sportkleidung\, Wasser und Sportschuhe (wenn vorhanden Stollenschuhe) benötigt. Wir freuen uns auf DICH!
URL:https://straubing-spiders.de/termin/training-flagfootball-u16-2/2023-09-22/
LOCATION:Bayern
CATEGORIES:Flagfootball
END:VEVENT
BEGIN:VEVENT
DTSTART;TZID=Europe/Berlin:20230922T164500
DTEND;TZID=Europe/Berlin:20230922T191500
DTSTAMP:20260422T191324
CREATED:20230516T145713Z
LAST-MODIFIED:20230516T150110Z
UID:10001141-1695401100-1695410100@straubing-spiders.de
SUMMARY:Training Flagfootball U13
DESCRIPTION:Die wöchentlichen Trainings des Straubing Spiders U13 Flagfootball-Teams finden immer Freitags von 16:45 – 19:15 Uhr beim Spiderdome statt. Teilnehmen darf JEDER im Alter von 11-13 Jahren und auch wenn Elternteile zusehen wollen ist dies kein Problem! Wir würden darum bitten zuvor mit uns in Kontakt zu treten um etwaige Trainingsabsagen oder sonstiges an Sie weitergeben zu können. Für’s Training werden lediglich Sportkleidung\, Wasser und Sportschuhe (wenn vorhanden Stollenschuhe) benötigt. Wir freuen uns auf DICH!
URL:https://straubing-spiders.de/termin/training-flagfootball-u13/2023-09-22/
LOCATION:Bayern
CATEGORIES:Flagfootball
END:VEVENT
BEGIN:VEVENT
DTSTART;TZID=Europe/Berlin:20230923T100000
DTEND;TZID=Europe/Berlin:20230923T153000
DTSTAMP:20260422T191324
CREATED:20230913T083536Z
LAST-MODIFIED:20230913T085216Z
UID:10001270-1695463200-1695483000@straubing-spiders.de
SUMMARY:U11 Flagfootball Heimturnier
DESCRIPTION:Nach einigen Jahren nehmen die Spiders endlich wieder im Ligabetrieb der Altersklasse U11 Flag teil. Nun steht das erste (Heim-)Turnier bzw. unserer kleinsten Spinnen in diesem Jahr an! Unsere Jungspinnen treffen am Samstag\, den 23.09.2023 auf auf die Munich Cowboys und Passau Pirates. Es wird ein toller und fairer Fight der drei Mannschaften erwartet. Seid dabei\, wenn unsere U11 die Flaggen anlegt und #Spidersfootball spielt! Kickoff ist um 10:00 Uhr beim Spiderdome! 
URL:https://straubing-spiders.de/termin/u11-flagfootball-heimturnier/
LOCATION:Spider Dome\, Donausportzentrum Peterswöhrd\, Am Peterswöhrd 12\, Straubing\, Bayern\, 94315
CATEGORIES:Flagfootball
END:VEVENT
BEGIN:VEVENT
DTSTART;TZID=Europe/Berlin:20230924T140000
DTEND;TZID=Europe/Berlin:20230924T170000
DTSTAMP:20260422T191324
CREATED:20230913T092827Z
LAST-MODIFIED:20230913T092827Z
UID:10001276-1695564000-1695574800@straubing-spiders.de
SUMMARY:U19 Flagfootball Turnier @ Nürnberg
DESCRIPTION:Wie in den letzten Jahren\, nehmen die Spiders auch in dieser Saison wieder im Ligabetrieb der Altersklasse U19 Flag teil. Nun steht das erste Turnier unserer ältesten Spinnen  der Abteilung Flag in diesem Jahr an! Am Sonntag\, den 24.09.2023 treffen sie auf die Erlangen Sharks und Nürnberg Rams. Es wird ein toller und fairer Fight der drei Mannschaften erwartet. Seid dabei\, wenn unsere U19 die Flaggen anlegt und #Spidersfootball spielt! Kickoff ist um 14:00 Uhr auf dem Zeppelinfeld in Nürnberg! 
URL:https://straubing-spiders.de/termin/u19-flagfootball-turnier-nuernberg/
LOCATION:Bayern
CATEGORIES:Flagfootball,Spiders U19
END:VEVENT
BEGIN:VEVENT
DTSTART;TZID=Europe/Berlin:20230925T190000
DTEND;TZID=Europe/Berlin:20230925T210000
DTSTAMP:20260422T191324
CREATED:20230516T144637Z
LAST-MODIFIED:20230516T144637Z
UID:10000880-1695668400-1695675600@straubing-spiders.de
SUMMARY:Training Flagfootball U16
DESCRIPTION:Die wöchentlichen Trainings des Straubing Spiders U16 Flagfootball-Teams finden immer Montags von 19:00 – 21:00 Uhr und Freitags von 16:45 – 19:15 Uhr beim Spiderdome statt. Teilnehmen darf JEDER im Alter von 14-16 Jahren und auch wenn Elternteile zusehen wollen ist dies kein Problem! Wir würden darum bitten zuvor mit uns in Kontakt zu treten um etwaige Trainingsabsagen oder sonstiges an Sie weitergeben zu können. Für’s Training werden lediglich Sportkleidung\, Wasser und Sportschuhe (wenn vorhanden Stollenschuhe) benötigt. Wir freuen uns auf DICH!
URL:https://straubing-spiders.de/termin/training-flagfootball-u16/2023-09-25/
LOCATION:Bayern
CATEGORIES:Flagfootball
END:VEVENT
BEGIN:VEVENT
DTSTART;TZID=Europe/Berlin:20230929T164500
DTEND;TZID=Europe/Berlin:20230929T184500
DTSTAMP:20260422T191324
CREATED:20230516T145953Z
LAST-MODIFIED:20230516T145953Z
UID:10001212-1696005900-1696013100@straubing-spiders.de
SUMMARY:Training Flagfootball U11
DESCRIPTION:Die wöchentlichen Trainings des Straubing Spiders U11 Flagfootball-Teams finden immer Freitags von 16:45 – 18:45 Uhr beim Spiderdome statt. Teilnehmen darf JEDER im Alter von 7-11 Jahren und auch wenn Elternteile zusehen wollen ist dies kein Problem! Wir würden darum bitten zuvor mit uns in Kontakt zu treten um etwaige Trainingsabsagen oder sonstiges an Sie weitergeben zu können. Für’s Training werden lediglich Sportkleidung\, Wasser und Sportschuhe (wenn vorhanden Stollenschuhe) benötigt. Wir freuen uns auf DICH!
URL:https://straubing-spiders.de/termin/training-flagfootball-u11/2023-09-29/
LOCATION:Bayern
CATEGORIES:Flagfootball
END:VEVENT
BEGIN:VEVENT
DTSTART;TZID=Europe/Berlin:20230929T164500
DTEND;TZID=Europe/Berlin:20230929T191500
DTSTAMP:20260422T191324
CREATED:20230516T145341Z
LAST-MODIFIED:20230516T145341Z
UID:10001008-1696005900-1696014900@straubing-spiders.de
SUMMARY:Training Flagfootball U16
DESCRIPTION:Die wöchentlichen Trainings des Straubing Spiders U16 Flagfootball-Teams finden immer Montags von 19:00 – 21:00 Uhr und Freitags von 16:45 – 19:15 Uhr beim Spiderdome statt. Teilnehmen darf JEDER im Alter von 14-16 Jahren und auch wenn Elternteile zusehen wollen ist dies kein Problem! Wir würden darum bitten zuvor mit uns in Kontakt zu treten um etwaige Trainingsabsagen oder sonstiges an Sie weitergeben zu können. Für’s Training werden lediglich Sportkleidung\, Wasser und Sportschuhe (wenn vorhanden Stollenschuhe) benötigt. Wir freuen uns auf DICH!
URL:https://straubing-spiders.de/termin/training-flagfootball-u16-2/2023-09-29/
LOCATION:Bayern
CATEGORIES:Flagfootball
END:VEVENT
BEGIN:VEVENT
DTSTART;TZID=Europe/Berlin:20230929T164500
DTEND;TZID=Europe/Berlin:20230929T191500
DTSTAMP:20260422T191324
CREATED:20230516T145713Z
LAST-MODIFIED:20230516T150110Z
UID:10001142-1696005900-1696014900@straubing-spiders.de
SUMMARY:Training Flagfootball U13
DESCRIPTION:Die wöchentlichen Trainings des Straubing Spiders U13 Flagfootball-Teams finden immer Freitags von 16:45 – 19:15 Uhr beim Spiderdome statt. Teilnehmen darf JEDER im Alter von 11-13 Jahren und auch wenn Elternteile zusehen wollen ist dies kein Problem! Wir würden darum bitten zuvor mit uns in Kontakt zu treten um etwaige Trainingsabsagen oder sonstiges an Sie weitergeben zu können. Für’s Training werden lediglich Sportkleidung\, Wasser und Sportschuhe (wenn vorhanden Stollenschuhe) benötigt. Wir freuen uns auf DICH!
URL:https://straubing-spiders.de/termin/training-flagfootball-u13/2023-09-29/
LOCATION:Bayern
CATEGORIES:Flagfootball
END:VEVENT
BEGIN:VEVENT
DTSTART;TZID=Europe/Berlin:20230930T100000
DTEND;TZID=Europe/Berlin:20230930T153000
DTSTAMP:20260422T191324
CREATED:20230913T093528Z
LAST-MODIFIED:20230913T093528Z
UID:10001278-1696068000-1696087800@straubing-spiders.de
SUMMARY:U11 Flagfootball Turnier @Passau Pirates
DESCRIPTION:Nach einigen Jahren nehmen die Spiders endlich wieder im Ligabetrieb der Altersklasse U11 Flag teil. Nun steht das zweite Turnier unserer kleinsten Spinnen in diesem Jahr an! Unsere Jungspinnen treffen am Samstag\, den 30.09.2023 auf auf die Spielgemeinschaft Rebels/Bulls und Passau Pirates. Es wird ein toller und fairer Fight der Mannschaften erwartet. Seid dabei\, wenn unsere U11 die Flaggen anlegt und #Spidersfootball spielt! Kickoff ist um 10:00 Uhr im Stadion Veste Oberhaus in Passau! 
URL:https://straubing-spiders.de/termin/u11-flagfootball-turnier-passau/
LOCATION:Veste Oberhaus\, Oberhaus 7\, Passau\, 94034
CATEGORIES:Flagfootball
END:VEVENT
BEGIN:VEVENT
DTSTART;TZID=Europe/Berlin:20230930T120000
DTEND;TZID=Europe/Berlin:20230930T163000
DTSTAMP:20260422T191324
CREATED:20230913T090053Z
LAST-MODIFIED:20230913T090053Z
UID:10001273-1696075200-1696091400@straubing-spiders.de
SUMMARY:U16 9er Verbandsliga Tackle Turnier @Fursty
DESCRIPTION:Letztes Jahr haben die Spiders nach einigen Jahren wieder eine B-Tackle Mannschaft stellen können. In diesem Jahr gehen wir noch einen Schritt weiter und nehmen in der 9er Verbandsliga teil. Nun steht das erste Turnier der jüngsten Kontaktsportler in diesem Jahr an! Unsere Jungspinnen treffen am Samstag\, den 30.09.2023 in Fürstenfeldbruck auf die Fursty Razorbacks und die Spielgemeinschaft der Erding Bulls/Landsberg X-Press. Es wird ein toller und fairer Fight der Mannschaften erwartet. Seid dabei\, wenn unsere U16 die Pads anlegen und #Spidersfootball spielen! Kickoff ist um 12:00 Uhr! Unsere erste Begegnung im Stadion „auf der Lände“ startet um 13:15 Uhr\, die zweite um 14:30 Uhr.
URL:https://straubing-spiders.de/termin/u16-9er-verbandsliga-tackle-in-fursty/
LOCATION:Spider Dome\, Donausportzentrum Peterswöhrd\, Am Peterswöhrd 12\, Straubing\, Bayern\, 94315
CATEGORIES:Spiders U16
END:VEVENT
END:VCALENDAR