BEGIN:VCALENDAR
VERSION:2.0
PRODID:-//Straubing Spiders - ECPv6.15.20//NONSGML v1.0//EN
CALSCALE:GREGORIAN
METHOD:PUBLISH
X-WR-CALNAME:Straubing Spiders
X-ORIGINAL-URL:https://straubing-spiders.de
X-WR-CALDESC:Veranstaltungen für Straubing Spiders
REFRESH-INTERVAL;VALUE=DURATION:PT1H
X-Robots-Tag:noindex
X-PUBLISHED-TTL:PT1H
BEGIN:VTIMEZONE
TZID:Europe/Berlin
BEGIN:DAYLIGHT
TZOFFSETFROM:+0100
TZOFFSETTO:+0200
TZNAME:CEST
DTSTART:20220327T010000
END:DAYLIGHT
BEGIN:STANDARD
TZOFFSETFROM:+0200
TZOFFSETTO:+0100
TZNAME:CET
DTSTART:20221030T010000
END:STANDARD
BEGIN:DAYLIGHT
TZOFFSETFROM:+0100
TZOFFSETTO:+0200
TZNAME:CEST
DTSTART:20230326T010000
END:DAYLIGHT
BEGIN:STANDARD
TZOFFSETFROM:+0200
TZOFFSETTO:+0100
TZNAME:CET
DTSTART:20231029T010000
END:STANDARD
BEGIN:DAYLIGHT
TZOFFSETFROM:+0100
TZOFFSETTO:+0200
TZNAME:CEST
DTSTART:20240331T010000
END:DAYLIGHT
BEGIN:STANDARD
TZOFFSETFROM:+0200
TZOFFSETTO:+0100
TZNAME:CET
DTSTART:20241027T010000
END:STANDARD
END:VTIMEZONE
BEGIN:VEVENT
DTSTART;TZID=Europe/Berlin:20230802T190000
DTEND;TZID=Europe/Berlin:20230802T210000
DTSTAMP:20260422T205539
CREATED:20230428T091621Z
LAST-MODIFIED:20230502T072616Z
UID:10000327-1691002800-1691010000@straubing-spiders.de
SUMMARY:Training II und GFL
DESCRIPTION:
URL:https://straubing-spiders.de/termin/training-ii-und-gfl/2023-08-02/
LOCATION:Bayern
CATEGORIES:Spiders GFL,Spiders II
END:VEVENT
BEGIN:VEVENT
DTSTART;TZID=Europe/Berlin:20230804T164500
DTEND;TZID=Europe/Berlin:20230804T184500
DTSTAMP:20260422T205539
CREATED:20230516T145953Z
LAST-MODIFIED:20230516T145953Z
UID:10001204-1691167500-1691174700@straubing-spiders.de
SUMMARY:Training Flagfootball U11
DESCRIPTION:Die wöchentlichen Trainings des Straubing Spiders U11 Flagfootball-Teams finden immer Freitags von 16:45 – 18:45 Uhr beim Spiderdome statt. Teilnehmen darf JEDER im Alter von 7-11 Jahren und auch wenn Elternteile zusehen wollen ist dies kein Problem! Wir würden darum bitten zuvor mit uns in Kontakt zu treten um etwaige Trainingsabsagen oder sonstiges an Sie weitergeben zu können. Für’s Training werden lediglich Sportkleidung\, Wasser und Sportschuhe (wenn vorhanden Stollenschuhe) benötigt. Wir freuen uns auf DICH!
URL:https://straubing-spiders.de/termin/training-flagfootball-u11/2023-08-04/
LOCATION:Bayern
CATEGORIES:Flagfootball
END:VEVENT
BEGIN:VEVENT
DTSTART;TZID=Europe/Berlin:20230804T164500
DTEND;TZID=Europe/Berlin:20230804T191500
DTSTAMP:20260422T205539
CREATED:20230516T145341Z
LAST-MODIFIED:20230516T145341Z
UID:10001000-1691167500-1691176500@straubing-spiders.de
SUMMARY:Training Flagfootball U16
DESCRIPTION:Die wöchentlichen Trainings des Straubing Spiders U16 Flagfootball-Teams finden immer Montags von 19:00 – 21:00 Uhr und Freitags von 16:45 – 19:15 Uhr beim Spiderdome statt. Teilnehmen darf JEDER im Alter von 14-16 Jahren und auch wenn Elternteile zusehen wollen ist dies kein Problem! Wir würden darum bitten zuvor mit uns in Kontakt zu treten um etwaige Trainingsabsagen oder sonstiges an Sie weitergeben zu können. Für’s Training werden lediglich Sportkleidung\, Wasser und Sportschuhe (wenn vorhanden Stollenschuhe) benötigt. Wir freuen uns auf DICH!
URL:https://straubing-spiders.de/termin/training-flagfootball-u16-2/2023-08-04/
LOCATION:Bayern
CATEGORIES:Flagfootball
END:VEVENT
BEGIN:VEVENT
DTSTART;TZID=Europe/Berlin:20230804T164500
DTEND;TZID=Europe/Berlin:20230804T191500
DTSTAMP:20260422T205539
CREATED:20230516T145713Z
LAST-MODIFIED:20230516T150110Z
UID:10001134-1691167500-1691176500@straubing-spiders.de
SUMMARY:Training Flagfootball U13
DESCRIPTION:Die wöchentlichen Trainings des Straubing Spiders U13 Flagfootball-Teams finden immer Freitags von 16:45 – 19:15 Uhr beim Spiderdome statt. Teilnehmen darf JEDER im Alter von 11-13 Jahren und auch wenn Elternteile zusehen wollen ist dies kein Problem! Wir würden darum bitten zuvor mit uns in Kontakt zu treten um etwaige Trainingsabsagen oder sonstiges an Sie weitergeben zu können. Für’s Training werden lediglich Sportkleidung\, Wasser und Sportschuhe (wenn vorhanden Stollenschuhe) benötigt. Wir freuen uns auf DICH!
URL:https://straubing-spiders.de/termin/training-flagfootball-u13/2023-08-04/
LOCATION:Bayern
CATEGORIES:Flagfootball
END:VEVENT
BEGIN:VEVENT
DTSTART;TZID=Europe/Berlin:20230804T190000
DTEND;TZID=Europe/Berlin:20230804T210000
DTSTAMP:20260422T205539
CREATED:20230428T091750Z
LAST-MODIFIED:20230502T072538Z
UID:10000601-1691175600-1691182800@straubing-spiders.de
SUMMARY:Training II und GFL
DESCRIPTION:
URL:https://straubing-spiders.de/termin/training-ii-und-gfl-2/2023-08-04/
LOCATION:Bayern
CATEGORIES:Spiders GFL,Spiders II
END:VEVENT
BEGIN:VEVENT
DTSTART;TZID=Europe/Berlin:20230805T150000
DTEND;TZID=Europe/Berlin:20230805T180000
DTSTAMP:20260422T205539
CREATED:20230428T094326Z
LAST-MODIFIED:20230629T053339Z
UID:10000857-1691247600-1691258400@straubing-spiders.de
SUMMARY:Straubing Spiders vs. Schwäbisch Hall Unicorns
DESCRIPTION:
URL:https://straubing-spiders.de/termin/straubing-spiders-vs-schwaebisch-hall-unicorns-2/
LOCATION:Bayern
CATEGORIES:Spiders GFL
END:VEVENT
BEGIN:VEVENT
DTSTART;TZID=Europe/Berlin:20230807T190000
DTEND;TZID=Europe/Berlin:20230807T210000
DTSTAMP:20260422T205539
CREATED:20230516T144637Z
LAST-MODIFIED:20230516T144637Z
UID:10000873-1691434800-1691442000@straubing-spiders.de
SUMMARY:Training Flagfootball U16
DESCRIPTION:Die wöchentlichen Trainings des Straubing Spiders U16 Flagfootball-Teams finden immer Montags von 19:00 – 21:00 Uhr und Freitags von 16:45 – 19:15 Uhr beim Spiderdome statt. Teilnehmen darf JEDER im Alter von 14-16 Jahren und auch wenn Elternteile zusehen wollen ist dies kein Problem! Wir würden darum bitten zuvor mit uns in Kontakt zu treten um etwaige Trainingsabsagen oder sonstiges an Sie weitergeben zu können. Für’s Training werden lediglich Sportkleidung\, Wasser und Sportschuhe (wenn vorhanden Stollenschuhe) benötigt. Wir freuen uns auf DICH!
URL:https://straubing-spiders.de/termin/training-flagfootball-u16/2023-08-07/
LOCATION:Bayern
CATEGORIES:Flagfootball
END:VEVENT
BEGIN:VEVENT
DTSTART;TZID=Europe/Berlin:20230809T190000
DTEND;TZID=Europe/Berlin:20230809T210000
DTSTAMP:20260422T205539
CREATED:20230428T091621Z
LAST-MODIFIED:20230502T072616Z
UID:10000328-1691607600-1691614800@straubing-spiders.de
SUMMARY:Training II und GFL
DESCRIPTION:
URL:https://straubing-spiders.de/termin/training-ii-und-gfl/2023-08-09/
LOCATION:Bayern
CATEGORIES:Spiders GFL,Spiders II
END:VEVENT
BEGIN:VEVENT
DTSTART;TZID=Europe/Berlin:20230811T164500
DTEND;TZID=Europe/Berlin:20230811T184500
DTSTAMP:20260422T205539
CREATED:20230516T145953Z
LAST-MODIFIED:20230516T145953Z
UID:10001205-1691772300-1691779500@straubing-spiders.de
SUMMARY:Training Flagfootball U11
DESCRIPTION:Die wöchentlichen Trainings des Straubing Spiders U11 Flagfootball-Teams finden immer Freitags von 16:45 – 18:45 Uhr beim Spiderdome statt. Teilnehmen darf JEDER im Alter von 7-11 Jahren und auch wenn Elternteile zusehen wollen ist dies kein Problem! Wir würden darum bitten zuvor mit uns in Kontakt zu treten um etwaige Trainingsabsagen oder sonstiges an Sie weitergeben zu können. Für’s Training werden lediglich Sportkleidung\, Wasser und Sportschuhe (wenn vorhanden Stollenschuhe) benötigt. Wir freuen uns auf DICH!
URL:https://straubing-spiders.de/termin/training-flagfootball-u11/2023-08-11/
LOCATION:Bayern
CATEGORIES:Flagfootball
END:VEVENT
BEGIN:VEVENT
DTSTART;TZID=Europe/Berlin:20230811T164500
DTEND;TZID=Europe/Berlin:20230811T191500
DTSTAMP:20260422T205539
CREATED:20230516T145341Z
LAST-MODIFIED:20230516T145341Z
UID:10001001-1691772300-1691781300@straubing-spiders.de
SUMMARY:Training Flagfootball U16
DESCRIPTION:Die wöchentlichen Trainings des Straubing Spiders U16 Flagfootball-Teams finden immer Montags von 19:00 – 21:00 Uhr und Freitags von 16:45 – 19:15 Uhr beim Spiderdome statt. Teilnehmen darf JEDER im Alter von 14-16 Jahren und auch wenn Elternteile zusehen wollen ist dies kein Problem! Wir würden darum bitten zuvor mit uns in Kontakt zu treten um etwaige Trainingsabsagen oder sonstiges an Sie weitergeben zu können. Für’s Training werden lediglich Sportkleidung\, Wasser und Sportschuhe (wenn vorhanden Stollenschuhe) benötigt. Wir freuen uns auf DICH!
URL:https://straubing-spiders.de/termin/training-flagfootball-u16-2/2023-08-11/
LOCATION:Bayern
CATEGORIES:Flagfootball
END:VEVENT
BEGIN:VEVENT
DTSTART;TZID=Europe/Berlin:20230811T164500
DTEND;TZID=Europe/Berlin:20230811T191500
DTSTAMP:20260422T205539
CREATED:20230516T145713Z
LAST-MODIFIED:20230516T150110Z
UID:10001135-1691772300-1691781300@straubing-spiders.de
SUMMARY:Training Flagfootball U13
DESCRIPTION:Die wöchentlichen Trainings des Straubing Spiders U13 Flagfootball-Teams finden immer Freitags von 16:45 – 19:15 Uhr beim Spiderdome statt. Teilnehmen darf JEDER im Alter von 11-13 Jahren und auch wenn Elternteile zusehen wollen ist dies kein Problem! Wir würden darum bitten zuvor mit uns in Kontakt zu treten um etwaige Trainingsabsagen oder sonstiges an Sie weitergeben zu können. Für’s Training werden lediglich Sportkleidung\, Wasser und Sportschuhe (wenn vorhanden Stollenschuhe) benötigt. Wir freuen uns auf DICH!
URL:https://straubing-spiders.de/termin/training-flagfootball-u13/2023-08-11/
LOCATION:Bayern
CATEGORIES:Flagfootball
END:VEVENT
BEGIN:VEVENT
DTSTART;TZID=Europe/Berlin:20230811T190000
DTEND;TZID=Europe/Berlin:20230811T210000
DTSTAMP:20260422T205539
CREATED:20230428T091750Z
LAST-MODIFIED:20230502T072538Z
UID:10000602-1691780400-1691787600@straubing-spiders.de
SUMMARY:Training II und GFL
DESCRIPTION:
URL:https://straubing-spiders.de/termin/training-ii-und-gfl-2/2023-08-11/
LOCATION:Bayern
CATEGORIES:Spiders GFL,Spiders II
END:VEVENT
BEGIN:VEVENT
DTSTART;TZID=Europe/Berlin:20230814T190000
DTEND;TZID=Europe/Berlin:20230814T210000
DTSTAMP:20260422T205539
CREATED:20230516T144637Z
LAST-MODIFIED:20230516T144637Z
UID:10000874-1692039600-1692046800@straubing-spiders.de
SUMMARY:Training Flagfootball U16
DESCRIPTION:Die wöchentlichen Trainings des Straubing Spiders U16 Flagfootball-Teams finden immer Montags von 19:00 – 21:00 Uhr und Freitags von 16:45 – 19:15 Uhr beim Spiderdome statt. Teilnehmen darf JEDER im Alter von 14-16 Jahren und auch wenn Elternteile zusehen wollen ist dies kein Problem! Wir würden darum bitten zuvor mit uns in Kontakt zu treten um etwaige Trainingsabsagen oder sonstiges an Sie weitergeben zu können. Für’s Training werden lediglich Sportkleidung\, Wasser und Sportschuhe (wenn vorhanden Stollenschuhe) benötigt. Wir freuen uns auf DICH!
URL:https://straubing-spiders.de/termin/training-flagfootball-u16/2023-08-14/
LOCATION:Bayern
CATEGORIES:Flagfootball
END:VEVENT
BEGIN:VEVENT
DTSTART;TZID=Europe/Berlin:20230816T190000
DTEND;TZID=Europe/Berlin:20230816T210000
DTSTAMP:20260422T205539
CREATED:20230428T091621Z
LAST-MODIFIED:20230502T072616Z
UID:10000329-1692212400-1692219600@straubing-spiders.de
SUMMARY:Training II und GFL
DESCRIPTION:
URL:https://straubing-spiders.de/termin/training-ii-und-gfl/2023-08-16/
LOCATION:Bayern
CATEGORIES:Spiders GFL,Spiders II
END:VEVENT
BEGIN:VEVENT
DTSTART;TZID=Europe/Berlin:20230818T164500
DTEND;TZID=Europe/Berlin:20230818T184500
DTSTAMP:20260422T205539
CREATED:20230516T145953Z
LAST-MODIFIED:20230516T145953Z
UID:10001206-1692377100-1692384300@straubing-spiders.de
SUMMARY:Training Flagfootball U11
DESCRIPTION:Die wöchentlichen Trainings des Straubing Spiders U11 Flagfootball-Teams finden immer Freitags von 16:45 – 18:45 Uhr beim Spiderdome statt. Teilnehmen darf JEDER im Alter von 7-11 Jahren und auch wenn Elternteile zusehen wollen ist dies kein Problem! Wir würden darum bitten zuvor mit uns in Kontakt zu treten um etwaige Trainingsabsagen oder sonstiges an Sie weitergeben zu können. Für’s Training werden lediglich Sportkleidung\, Wasser und Sportschuhe (wenn vorhanden Stollenschuhe) benötigt. Wir freuen uns auf DICH!
URL:https://straubing-spiders.de/termin/training-flagfootball-u11/2023-08-18/
LOCATION:Bayern
CATEGORIES:Flagfootball
END:VEVENT
BEGIN:VEVENT
DTSTART;TZID=Europe/Berlin:20230818T164500
DTEND;TZID=Europe/Berlin:20230818T191500
DTSTAMP:20260422T205539
CREATED:20230516T145341Z
LAST-MODIFIED:20230516T145341Z
UID:10001002-1692377100-1692386100@straubing-spiders.de
SUMMARY:Training Flagfootball U16
DESCRIPTION:Die wöchentlichen Trainings des Straubing Spiders U16 Flagfootball-Teams finden immer Montags von 19:00 – 21:00 Uhr und Freitags von 16:45 – 19:15 Uhr beim Spiderdome statt. Teilnehmen darf JEDER im Alter von 14-16 Jahren und auch wenn Elternteile zusehen wollen ist dies kein Problem! Wir würden darum bitten zuvor mit uns in Kontakt zu treten um etwaige Trainingsabsagen oder sonstiges an Sie weitergeben zu können. Für’s Training werden lediglich Sportkleidung\, Wasser und Sportschuhe (wenn vorhanden Stollenschuhe) benötigt. Wir freuen uns auf DICH!
URL:https://straubing-spiders.de/termin/training-flagfootball-u16-2/2023-08-18/
LOCATION:Bayern
CATEGORIES:Flagfootball
END:VEVENT
BEGIN:VEVENT
DTSTART;TZID=Europe/Berlin:20230818T164500
DTEND;TZID=Europe/Berlin:20230818T191500
DTSTAMP:20260422T205539
CREATED:20230516T145713Z
LAST-MODIFIED:20230516T150110Z
UID:10001136-1692377100-1692386100@straubing-spiders.de
SUMMARY:Training Flagfootball U13
DESCRIPTION:Die wöchentlichen Trainings des Straubing Spiders U13 Flagfootball-Teams finden immer Freitags von 16:45 – 19:15 Uhr beim Spiderdome statt. Teilnehmen darf JEDER im Alter von 11-13 Jahren und auch wenn Elternteile zusehen wollen ist dies kein Problem! Wir würden darum bitten zuvor mit uns in Kontakt zu treten um etwaige Trainingsabsagen oder sonstiges an Sie weitergeben zu können. Für’s Training werden lediglich Sportkleidung\, Wasser und Sportschuhe (wenn vorhanden Stollenschuhe) benötigt. Wir freuen uns auf DICH!
URL:https://straubing-spiders.de/termin/training-flagfootball-u13/2023-08-18/
LOCATION:Bayern
CATEGORIES:Flagfootball
END:VEVENT
BEGIN:VEVENT
DTSTART;TZID=Europe/Berlin:20230818T190000
DTEND;TZID=Europe/Berlin:20230818T210000
DTSTAMP:20260422T205539
CREATED:20230428T091750Z
LAST-MODIFIED:20230502T072538Z
UID:10000603-1692385200-1692392400@straubing-spiders.de
SUMMARY:Training II und GFL
DESCRIPTION:
URL:https://straubing-spiders.de/termin/training-ii-und-gfl-2/2023-08-18/
LOCATION:Bayern
CATEGORIES:Spiders GFL,Spiders II
END:VEVENT
BEGIN:VEVENT
DTSTART;TZID=Europe/Berlin:20230819T150000
DTEND;TZID=Europe/Berlin:20230819T180000
DTSTAMP:20260422T205539
CREATED:20230428T094521Z
LAST-MODIFIED:20230629T065313Z
UID:10000858-1692457200-1692468000@straubing-spiders.de
SUMMARY:Straubing Spiders vs. Allgäu Comets
DESCRIPTION:
URL:https://straubing-spiders.de/termin/straubing-spiders-vs-allgaeu-comets/
LOCATION:Bayern
CATEGORIES:Spiders GFL
END:VEVENT
BEGIN:VEVENT
DTSTART;TZID=Europe/Berlin:20230821T190000
DTEND;TZID=Europe/Berlin:20230821T210000
DTSTAMP:20260422T205539
CREATED:20230516T144637Z
LAST-MODIFIED:20230516T144637Z
UID:10000875-1692644400-1692651600@straubing-spiders.de
SUMMARY:Training Flagfootball U16
DESCRIPTION:Die wöchentlichen Trainings des Straubing Spiders U16 Flagfootball-Teams finden immer Montags von 19:00 – 21:00 Uhr und Freitags von 16:45 – 19:15 Uhr beim Spiderdome statt. Teilnehmen darf JEDER im Alter von 14-16 Jahren und auch wenn Elternteile zusehen wollen ist dies kein Problem! Wir würden darum bitten zuvor mit uns in Kontakt zu treten um etwaige Trainingsabsagen oder sonstiges an Sie weitergeben zu können. Für’s Training werden lediglich Sportkleidung\, Wasser und Sportschuhe (wenn vorhanden Stollenschuhe) benötigt. Wir freuen uns auf DICH!
URL:https://straubing-spiders.de/termin/training-flagfootball-u16/2023-08-21/
LOCATION:Bayern
CATEGORIES:Flagfootball
END:VEVENT
BEGIN:VEVENT
DTSTART;TZID=Europe/Berlin:20230823T190000
DTEND;TZID=Europe/Berlin:20230823T210000
DTSTAMP:20260422T205539
CREATED:20230428T091621Z
LAST-MODIFIED:20230502T072616Z
UID:10000330-1692817200-1692824400@straubing-spiders.de
SUMMARY:Training II und GFL
DESCRIPTION:
URL:https://straubing-spiders.de/termin/training-ii-und-gfl/2023-08-23/
LOCATION:Bayern
CATEGORIES:Spiders GFL,Spiders II
END:VEVENT
BEGIN:VEVENT
DTSTART;TZID=Europe/Berlin:20230825T164500
DTEND;TZID=Europe/Berlin:20230825T184500
DTSTAMP:20260422T205539
CREATED:20230516T145953Z
LAST-MODIFIED:20230516T145953Z
UID:10001207-1692981900-1692989100@straubing-spiders.de
SUMMARY:Training Flagfootball U11
DESCRIPTION:Die wöchentlichen Trainings des Straubing Spiders U11 Flagfootball-Teams finden immer Freitags von 16:45 – 18:45 Uhr beim Spiderdome statt. Teilnehmen darf JEDER im Alter von 7-11 Jahren und auch wenn Elternteile zusehen wollen ist dies kein Problem! Wir würden darum bitten zuvor mit uns in Kontakt zu treten um etwaige Trainingsabsagen oder sonstiges an Sie weitergeben zu können. Für’s Training werden lediglich Sportkleidung\, Wasser und Sportschuhe (wenn vorhanden Stollenschuhe) benötigt. Wir freuen uns auf DICH!
URL:https://straubing-spiders.de/termin/training-flagfootball-u11/2023-08-25/
LOCATION:Bayern
CATEGORIES:Flagfootball
END:VEVENT
BEGIN:VEVENT
DTSTART;TZID=Europe/Berlin:20230825T164500
DTEND;TZID=Europe/Berlin:20230825T191500
DTSTAMP:20260422T205539
CREATED:20230516T145341Z
LAST-MODIFIED:20230516T145341Z
UID:10001003-1692981900-1692990900@straubing-spiders.de
SUMMARY:Training Flagfootball U16
DESCRIPTION:Die wöchentlichen Trainings des Straubing Spiders U16 Flagfootball-Teams finden immer Montags von 19:00 – 21:00 Uhr und Freitags von 16:45 – 19:15 Uhr beim Spiderdome statt. Teilnehmen darf JEDER im Alter von 14-16 Jahren und auch wenn Elternteile zusehen wollen ist dies kein Problem! Wir würden darum bitten zuvor mit uns in Kontakt zu treten um etwaige Trainingsabsagen oder sonstiges an Sie weitergeben zu können. Für’s Training werden lediglich Sportkleidung\, Wasser und Sportschuhe (wenn vorhanden Stollenschuhe) benötigt. Wir freuen uns auf DICH!
URL:https://straubing-spiders.de/termin/training-flagfootball-u16-2/2023-08-25/
LOCATION:Bayern
CATEGORIES:Flagfootball
END:VEVENT
BEGIN:VEVENT
DTSTART;TZID=Europe/Berlin:20230825T164500
DTEND;TZID=Europe/Berlin:20230825T191500
DTSTAMP:20260422T205539
CREATED:20230516T145713Z
LAST-MODIFIED:20230516T150110Z
UID:10001137-1692981900-1692990900@straubing-spiders.de
SUMMARY:Training Flagfootball U13
DESCRIPTION:Die wöchentlichen Trainings des Straubing Spiders U13 Flagfootball-Teams finden immer Freitags von 16:45 – 19:15 Uhr beim Spiderdome statt. Teilnehmen darf JEDER im Alter von 11-13 Jahren und auch wenn Elternteile zusehen wollen ist dies kein Problem! Wir würden darum bitten zuvor mit uns in Kontakt zu treten um etwaige Trainingsabsagen oder sonstiges an Sie weitergeben zu können. Für’s Training werden lediglich Sportkleidung\, Wasser und Sportschuhe (wenn vorhanden Stollenschuhe) benötigt. Wir freuen uns auf DICH!
URL:https://straubing-spiders.de/termin/training-flagfootball-u13/2023-08-25/
LOCATION:Bayern
CATEGORIES:Flagfootball
END:VEVENT
BEGIN:VEVENT
DTSTART;TZID=Europe/Berlin:20230825T190000
DTEND;TZID=Europe/Berlin:20230825T210000
DTSTAMP:20260422T205539
CREATED:20230428T091750Z
LAST-MODIFIED:20230502T072538Z
UID:10000604-1692990000-1692997200@straubing-spiders.de
SUMMARY:Training II und GFL
DESCRIPTION:
URL:https://straubing-spiders.de/termin/training-ii-und-gfl-2/2023-08-25/
LOCATION:Bayern
CATEGORIES:Spiders GFL,Spiders II
END:VEVENT
BEGIN:VEVENT
DTSTART;TZID=Europe/Berlin:20230828T190000
DTEND;TZID=Europe/Berlin:20230828T210000
DTSTAMP:20260422T205539
CREATED:20230516T144637Z
LAST-MODIFIED:20230516T144637Z
UID:10000876-1693249200-1693256400@straubing-spiders.de
SUMMARY:Training Flagfootball U16
DESCRIPTION:Die wöchentlichen Trainings des Straubing Spiders U16 Flagfootball-Teams finden immer Montags von 19:00 – 21:00 Uhr und Freitags von 16:45 – 19:15 Uhr beim Spiderdome statt. Teilnehmen darf JEDER im Alter von 14-16 Jahren und auch wenn Elternteile zusehen wollen ist dies kein Problem! Wir würden darum bitten zuvor mit uns in Kontakt zu treten um etwaige Trainingsabsagen oder sonstiges an Sie weitergeben zu können. Für’s Training werden lediglich Sportkleidung\, Wasser und Sportschuhe (wenn vorhanden Stollenschuhe) benötigt. Wir freuen uns auf DICH!
URL:https://straubing-spiders.de/termin/training-flagfootball-u16/2023-08-28/
LOCATION:Bayern
CATEGORIES:Flagfootball
END:VEVENT
BEGIN:VEVENT
DTSTART;TZID=Europe/Berlin:20230830T190000
DTEND;TZID=Europe/Berlin:20230830T210000
DTSTAMP:20260422T205539
CREATED:20230428T091621Z
LAST-MODIFIED:20230502T072616Z
UID:10000331-1693422000-1693429200@straubing-spiders.de
SUMMARY:Training II und GFL
DESCRIPTION:
URL:https://straubing-spiders.de/termin/training-ii-und-gfl/2023-08-30/
LOCATION:Bayern
CATEGORIES:Spiders GFL,Spiders II
END:VEVENT
END:VCALENDAR